BEGIN:VCALENDAR
VERSION:2.0
PRODID:-//Famous Pudn | Kettle Cooked Gluten-Free Pudding Cafe in Murrieta, CA - ECPv6.15.13//NONSGML v1.0//EN
CALSCALE:GREGORIAN
METHOD:PUBLISH
X-ORIGINAL-URL:https://famouspudn.com
X-WR-CALDESC:Events for Famous Pudn | Kettle Cooked Gluten-Free Pudding Cafe in Murrieta, CA
REFRESH-INTERVAL;VALUE=DURATION:PT1H
X-Robots-Tag:noindex
X-PUBLISHED-TTL:PT1H
BEGIN:VTIMEZONE
TZID:UTC
BEGIN:STANDARD
TZOFFSETFROM:+0000
TZOFFSETTO:+0000
TZNAME:UTC
DTSTART:20220101T000000
END:STANDARD
END:VTIMEZONE
BEGIN:VEVENT
DTSTART;TZID=UTC:20230302T170000
DTEND;TZID=UTC:20230302T170000
DTSTAMP:20260426T020551
CREATED:20230110T190824Z
LAST-MODIFIED:20230110T190824Z
UID:1459-1677776400-1677776400@famouspudn.com
SUMMARY:Murrieta Market Nights
DESCRIPTION:Looking for things to do in Murrieta?  Join us for Market Nights event hosted in downtown Murrieta every 1st & 3rd Thursday of the month.  Come enjoy live music\, food trucks\, street vendors and more!
URL:https://famouspudn.com/event/murrieta-market-nights-4/
END:VEVENT
BEGIN:VEVENT
DTSTART;TZID=UTC:20230304T080000
DTEND;TZID=UTC:20230304T123000
DTSTAMP:20260426T020551
CREATED:20230308T012755Z
LAST-MODIFIED:20230308T013601Z
UID:1713-1677916800-1677933000@famouspudn.com
SUMMARY:Doffo Winery PUDN Smile's on People's Faces Campaign
DESCRIPTION:36083 Summitville St\, Temecula\, CA 92592
URL:https://famouspudn.com/event/doffo-winery-pudn-smiles-on-peoples-faces-gourmet/
ATTACH;FMTTYPE=image/jpeg:https://famouspudn.com/wp-content/uploads/2023/03/Doffo.jpeg
END:VEVENT
BEGIN:VEVENT
DTSTART;TZID=UTC:20230305T120000
DTEND;TZID=UTC:20230305T160000
DTSTAMP:20260426T020551
CREATED:20230308T013345Z
LAST-MODIFIED:20230308T013645Z
UID:1719-1678017600-1678032000@famouspudn.com
SUMMARY:Monserate Winery
DESCRIPTION:2757 Gird Rd\, Fallbrook\, CA 92028
URL:https://famouspudn.com/event/monserate-winery/
ATTACH;FMTTYPE=image/jpeg:https://famouspudn.com/wp-content/uploads/2023/03/Monserate-Winery.jpeg
END:VEVENT
BEGIN:VEVENT
DTSTART;TZID=UTC:20230311T080000
DTEND;TZID=UTC:20230311T123000
DTSTAMP:20260426T020551
CREATED:20230308T014233Z
LAST-MODIFIED:20230308T014233Z
UID:1725-1678521600-1678537800@famouspudn.com
SUMMARY:Temecula Farmers Market
DESCRIPTION:Every Saturday morning 70-80 farmers and vendors gather in historic Old Town Temecula to offer a wide variety of farm fresh\, organic and conventional; fruits and vegetables. We feature many unusual plants and flowers. We have many complimentary items including\, bakeries\, olives\, olive oils\, cheeses\, kettle corn\, tamales\, hand made soaps and lotions. Natural pet foods are available. A small group of local artists have available some of their works.
URL:https://famouspudn.com/event/temecula-farmers-market-12/
ATTACH;FMTTYPE=image/jpeg:https://famouspudn.com/wp-content/uploads/2022/09/4.jpg
END:VEVENT
BEGIN:VEVENT
DTSTART;TZID=UTC:20230316T170000
DTEND;TZID=UTC:20230316T210000
DTSTAMP:20260426T020551
CREATED:20230110T190955Z
LAST-MODIFIED:20230309T181838Z
UID:1461-1678986000-1679000400@famouspudn.com
SUMMARY:Murrieta Market Nights
DESCRIPTION:Looking for things to do in Murrieta?  Join us for Market Nights event hosted in downtown Murrieta every 1st & 3rd Thursday of the month.  Come enjoy live music\, food trucks\, street vendors and more!
URL:https://famouspudn.com/event/murrieta-market-nights-5/
END:VEVENT
BEGIN:VEVENT
DTSTART;TZID=UTC:20230317T170000
DTEND;TZID=UTC:20230317T210000
DTSTAMP:20260426T020551
CREATED:20230308T030115Z
LAST-MODIFIED:20230308T030115Z
UID:1766-1679072400-1679086800@famouspudn.com
SUMMARY:Menifee Trading Post
DESCRIPTION:30141 Antelope Rd\, Menifee\, CA 92584
URL:https://famouspudn.com/event/menifee-trading-post-3/
END:VEVENT
BEGIN:VEVENT
DTSTART;VALUE=DATE:20230318
DTEND;VALUE=DATE:20230319
DTSTAMP:20260426T020551
CREATED:20230308T030355Z
LAST-MODIFIED:20230318T182602Z
UID:1768-1679097600-1679183999@famouspudn.com
SUMMARY:Reach.Live Music Fest
DESCRIPTION:Worship Is My Weapon at Diamond Stadium \nHome of Lake Elsinore Storm \nFeaturing Mack Brock and Andrew Hopkins \n500 Diamond Dr.\, Lake Elsinore
URL:https://famouspudn.com/event/bel-vino-winery-pudn-smiles-on-peoples-faces-campaign/
END:VEVENT
BEGIN:VEVENT
DTSTART;TZID=UTC:20230318T080000
DTEND;TZID=UTC:20230318T123000
DTSTAMP:20260426T020551
CREATED:20230308T015606Z
LAST-MODIFIED:20230308T015606Z
UID:1730-1679126400-1679142600@famouspudn.com
SUMMARY:Temecula Farmers Market
DESCRIPTION:Every Saturday morning 70-80 farmers and vendors gather in historic Old Town Temecula to offer a wide variety of farm fresh\, organic and conventional; fruits and vegetables. We feature many unusual plants and flowers. We have many complimentary items including\, bakeries\, olives\, olive oils\, cheeses\, kettle corn\, tamales\, hand made soaps and lotions. Natural pet foods are available. A small group of local artists have available some of their works.
URL:https://famouspudn.com/event/temecula-farmers-market-13/
ATTACH;FMTTYPE=image/jpeg:https://famouspudn.com/wp-content/uploads/2022/09/4.jpg
END:VEVENT
BEGIN:VEVENT
DTSTART;VALUE=DATE:20230324
DTEND;VALUE=DATE:20230327
DTSTAMP:20260426T020551
CREATED:20221206T164053Z
LAST-MODIFIED:20230309T181536Z
UID:1092-1679616000-1679875199@famouspudn.com
SUMMARY:Foodieland Vegas
DESCRIPTION:FoodieLand Night Market is a foodie-inspired multi-cultural food and entertainment event taking place at the San Mateo County Event Center. \nWith over 170 vendors\, we’re bringing you a variety of amazing foods\, games\, and entertainment for the whole family. Hope to see you there! \nFri\, Mar 24 – Sun\, Mar 26\nLas Vegas Motor Speedway\, 7000 Las Vegas Blvd N\nLas Vegas\, NV
URL:https://famouspudn.com/event/foodieland-vegas/
LOCATION:Las Vegas Motor Speedway\, 7000 Las Vegas Blvd N\, Las Vegas\, NV 89115
END:VEVENT
BEGIN:VEVENT
DTSTART;VALUE=DATE:20230331
DTEND;VALUE=DATE:20230401
DTSTAMP:20260426T020551
CREATED:20230308T020656Z
LAST-MODIFIED:20230309T181518Z
UID:1737-1680220800-1680307199@famouspudn.com
SUMMARY:Altisma Winery PUDN Smile's on People's Faces Campaign
DESCRIPTION:37440 De Portola Rd\, Temecula\, CA 92592
URL:https://famouspudn.com/event/altisma-winery-pudn-smiles-on-peoples-faces-campaign/
END:VEVENT
END:VCALENDAR