BEGIN:VCALENDAR
VERSION:2.0
PRODID:-//Famous Pudn | Kettle Cooked Gluten-Free Pudding Cafe in Murrieta, CA - ECPv6.15.13//NONSGML v1.0//EN
CALSCALE:GREGORIAN
METHOD:PUBLISH
X-WR-CALNAME:Famous Pudn | Kettle Cooked Gluten-Free Pudding Cafe in Murrieta, CA
X-ORIGINAL-URL:https://famouspudn.com
X-WR-CALDESC:Events for Famous Pudn | Kettle Cooked Gluten-Free Pudding Cafe in Murrieta, CA
REFRESH-INTERVAL;VALUE=DURATION:PT1H
X-Robots-Tag:noindex
X-PUBLISHED-TTL:PT1H
BEGIN:VTIMEZONE
TZID:UTC
BEGIN:STANDARD
TZOFFSETFROM:+0000
TZOFFSETTO:+0000
TZNAME:UTC
DTSTART:20220101T000000
END:STANDARD
END:VTIMEZONE
BEGIN:VEVENT
DTSTART;TZID=UTC:20230202T170000
DTEND;TZID=UTC:20230202T190000
DTSTAMP:20260426T002049
CREATED:20230110T190552Z
LAST-MODIFIED:20230110T190552Z
UID:1455-1675357200-1675364400@famouspudn.com
SUMMARY:Murrieta Market Nights
DESCRIPTION:Looking for things to do in Murrieta?  Join us for Market Nights event hosted in downtown Murrieta every 1st & 3rd Thursday of the month.  Come enjoy live music\, food trucks\, street vendors and more!
URL:https://famouspudn.com/event/murrieta-market-nights-2/
END:VEVENT
BEGIN:VEVENT
DTSTART;TZID=UTC:20230204T083000
DTEND;TZID=UTC:20230204T123000
DTSTAMP:20260426T002049
CREATED:20230131T184556Z
LAST-MODIFIED:20230131T184556Z
UID:1513-1675499400-1675513800@famouspudn.com
SUMMARY:Temecula Farmers Market
DESCRIPTION:Every Saturday morning 70-80 farmers and vendors gather in historic Old Town Temecula to offer a wide variety of farm fresh\, organic and conventional; fruits and vegetables. We feature many unusual plants and flowers. We have many complimentary items including\, bakeries\, olives\, olive oils\, cheeses\, kettle corn\, tamales\, hand made soaps and lotions. Natural pet foods are available. A small group of local artists have available some of their works.
URL:https://famouspudn.com/event/temecula-farmers-market-9/
ATTACH;FMTTYPE=image/jpeg:https://famouspudn.com/wp-content/uploads/2022/09/4.jpg
END:VEVENT
BEGIN:VEVENT
DTSTART;TZID=UTC:20230204T100000
DTEND;TZID=UTC:20230204T170000
DTSTAMP:20260426T002049
CREATED:20230110T190024Z
LAST-MODIFIED:20230110T190024Z
UID:1449-1675504800-1675530000@famouspudn.com
SUMMARY:Taste of Soul Event & Black Business Expo
DESCRIPTION:Kick off Black History Month at the “Taste of Soul & Black Business Expo” in Murrieta\, CA!!! Free to the community with RSVP. There’ll be MUSIC\, DANCE\, VENDORS\, PERFORMANCES\, A KID’S FAIR\, AND LOTS OF NETWORKING OPPORTUNITIES. Feel free to wear your African attire or just COME AS YOU ARE!!! \nMurrieta Community Center\, 41810 Juniper Street\, Murrieta\, California
URL:https://famouspudn.com/event/taste-of-soul-event-black-business-expo/
END:VEVENT
BEGIN:VEVENT
DTSTART;TZID=UTC:20230209T160000
DTEND;TZID=UTC:20230209T200000
DTSTAMP:20260426T002049
CREATED:20230110T190251Z
LAST-MODIFIED:20230110T190251Z
UID:1451-1675958400-1675972800@famouspudn.com
SUMMARY:Corn Hole Tournament with Habitat for Humanity
DESCRIPTION:Thursday\, February 9th | 4:00 pm – 8:00 pm \n\n\nGames start at 4:30 pm \n\n\nPromenade Temecula – Plaza Area\n40820 Winchester Rd\, Temecula\, CA 92591 \nLive DJ\, food vendors\, beer garden and fun for everyone!
URL:https://famouspudn.com/event/corn-hole-tournament-with-habitat-for-humanity/
END:VEVENT
BEGIN:VEVENT
DTSTART;TZID=UTC:20230210T180000
DTEND;TZID=UTC:20230210T200000
DTSTAMP:20260426T002049
CREATED:20221206T163842Z
LAST-MODIFIED:20221206T163842Z
UID:1090-1676052000-1676059200@famouspudn.com
SUMMARY:Tovashal PTA Valentines Dance
DESCRIPTION:Tovashal PTA will be hosting a valentines dance on February 10th!
URL:https://famouspudn.com/event/tovashal-pta-valentines-dance/
END:VEVENT
BEGIN:VEVENT
DTSTART;TZID=UTC:20230211T083000
DTEND;TZID=UTC:20230211T123000
DTSTAMP:20260426T002049
CREATED:20230131T184652Z
LAST-MODIFIED:20230131T184652Z
UID:1516-1676104200-1676118600@famouspudn.com
SUMMARY:Temecula Farmers Market
DESCRIPTION:Every Saturday morning 70-80 farmers and vendors gather in historic Old Town Temecula to offer a wide variety of farm fresh\, organic and conventional; fruits and vegetables. We feature many unusual plants and flowers. We have many complimentary items including\, bakeries\, olives\, olive oils\, cheeses\, kettle corn\, tamales\, hand made soaps and lotions. Natural pet foods are available. A small group of local artists have available some of their works.
URL:https://famouspudn.com/event/temecula-farmers-market-10/
ATTACH;FMTTYPE=image/jpeg:https://famouspudn.com/wp-content/uploads/2022/09/4.jpg
END:VEVENT
BEGIN:VEVENT
DTSTART;TZID=UTC:20230216T170000
DTEND;TZID=UTC:20230216T190000
DTSTAMP:20260426T002049
CREATED:20230110T190652Z
LAST-MODIFIED:20230110T190743Z
UID:1457-1676566800-1676574000@famouspudn.com
SUMMARY:Murrieta market Nights
DESCRIPTION:Looking for things to do in Murrieta?  Join us for Market Nights event hosted in downtown Murrieta every 1st & 3rd Thursday of the month.  Come enjoy live music\, food trucks\, street vendors and more!
URL:https://famouspudn.com/event/murrieta-market-nights-3/
END:VEVENT
END:VCALENDAR