BEGIN:VCALENDAR
VERSION:2.0
PRODID:-//Famous Pudn | Kettle Cooked Gluten-Free Pudding Cafe in Murrieta, CA - ECPv6.15.13//NONSGML v1.0//EN
CALSCALE:GREGORIAN
METHOD:PUBLISH
X-ORIGINAL-URL:https://famouspudn.com
X-WR-CALDESC:Events for Famous Pudn | Kettle Cooked Gluten-Free Pudding Cafe in Murrieta, CA
REFRESH-INTERVAL;VALUE=DURATION:PT1H
X-Robots-Tag:noindex
X-PUBLISHED-TTL:PT1H
BEGIN:VTIMEZONE
TZID:UTC
BEGIN:STANDARD
TZOFFSETFROM:+0000
TZOFFSETTO:+0000
TZNAME:UTC
DTSTART:20220101T000000
END:STANDARD
END:VTIMEZONE
BEGIN:VEVENT
DTSTART;VALUE=DATE:20230324
DTEND;VALUE=DATE:20230327
DTSTAMP:20260426T034355
CREATED:20221206T164053Z
LAST-MODIFIED:20230309T181536Z
UID:1092-1679616000-1679875199@famouspudn.com
SUMMARY:Foodieland Vegas
DESCRIPTION:FoodieLand Night Market is a foodie-inspired multi-cultural food and entertainment event taking place at the San Mateo County Event Center. \nWith over 170 vendors\, we’re bringing you a variety of amazing foods\, games\, and entertainment for the whole family. Hope to see you there! \nFri\, Mar 24 – Sun\, Mar 26\nLas Vegas Motor Speedway\, 7000 Las Vegas Blvd N\nLas Vegas\, NV
URL:https://famouspudn.com/event/foodieland-vegas/
LOCATION:Las Vegas Motor Speedway\, 7000 Las Vegas Blvd N\, Las Vegas\, NV 89115
END:VEVENT
BEGIN:VEVENT
DTSTART;VALUE=DATE:20230331
DTEND;VALUE=DATE:20230401
DTSTAMP:20260426T034355
CREATED:20230308T020656Z
LAST-MODIFIED:20230309T181518Z
UID:1737-1680220800-1680307199@famouspudn.com
SUMMARY:Altisma Winery PUDN Smile's on People's Faces Campaign
DESCRIPTION:37440 De Portola Rd\, Temecula\, CA 92592
URL:https://famouspudn.com/event/altisma-winery-pudn-smiles-on-peoples-faces-campaign/
LOCATION:CA
END:VEVENT
BEGIN:VEVENT
DTSTART;TZID=UTC:20230401T080000
DTEND;TZID=UTC:20230401T123000
DTSTAMP:20260426T034355
CREATED:20230308T024824Z
LAST-MODIFIED:20230308T024824Z
UID:1748-1680336000-1680352200@famouspudn.com
SUMMARY:Temecula Farmers Market
DESCRIPTION:Every Saturday morning 70-80 farmers and vendors gather in historic Old Town Temecula to offer a wide variety of farm fresh\, organic and conventional; fruits and vegetables. We feature many unusual plants and flowers. We have many complimentary items including\, bakeries\, olives\, olive oils\, cheeses\, kettle corn\, tamales\, hand made soaps and lotions. Natural pet foods are available. A small group of local artists have available some of their works.
URL:https://famouspudn.com/event/temecula-farmers-market-14/
LOCATION:CA
ATTACH;FMTTYPE=image/jpeg:https://famouspudn.com/wp-content/uploads/2022/09/4.jpg
END:VEVENT
BEGIN:VEVENT
DTSTART;TZID=UTC:20230401T130000
DTEND;TZID=UTC:20230402T220000
DTSTAMP:20260426T034355
CREATED:20230323T225715Z
LAST-MODIFIED:20230323T225715Z
UID:1935-1680354000-1680472800@famouspudn.com
SUMMARY:626 Night Market - San Diego
DESCRIPTION:1350 3rd Ave\, San Diego\, Ca 92101
URL:https://famouspudn.com/event/626-night-market-san-diego/
LOCATION:CA
END:VEVENT
BEGIN:VEVENT
DTSTART;TZID=UTC:20230406T053000
DTEND;TZID=UTC:20230406T193000
DTSTAMP:20260426T034355
CREATED:20230323T225940Z
LAST-MODIFIED:20230323T225940Z
UID:1937-1680759000-1680809400@famouspudn.com
SUMMARY:Southwest Community Wide Rotary
DESCRIPTION:Temecula City Hall
URL:https://famouspudn.com/event/southwest-community-wide-rotary/
LOCATION:CA
END:VEVENT
BEGIN:VEVENT
DTSTART;TZID=UTC:20230407T170000
DTEND;TZID=UTC:20230407T210000
DTSTAMP:20260426T034355
CREATED:20230323T230157Z
LAST-MODIFIED:20230323T230157Z
UID:1939-1680886800-1680901200@famouspudn.com
SUMMARY:Menifee Foodie Friday
DESCRIPTION:Mt. San Jacinto College \n1499 N State St\, San Jacinto\, CA 92583
URL:https://famouspudn.com/event/menifee-foodie-friday/
LOCATION:CA
END:VEVENT
BEGIN:VEVENT
DTSTART;VALUE=DATE:20230408
DTEND;VALUE=DATE:20230409
DTSTAMP:20260426T034355
CREATED:20230323T230349Z
LAST-MODIFIED:20230323T230910Z
UID:1941-1680912000-1680998399@famouspudn.com
SUMMARY:Doffo WInery: PUDN Smile's on People's Faces Campaign
DESCRIPTION:
URL:https://famouspudn.com/event/doffo-winery-pudn-smiles-on-peoples-faces-campaign/
LOCATION:CA
END:VEVENT
BEGIN:VEVENT
DTSTART;TZID=UTC:20230408T080000
DTEND;TZID=UTC:20230408T123000
DTSTAMP:20260426T034355
CREATED:20230308T024915Z
LAST-MODIFIED:20230308T024915Z
UID:1750-1680940800-1680957000@famouspudn.com
SUMMARY:Temecula Farmers Market
DESCRIPTION:Every Saturday morning 70-80 farmers and vendors gather in historic Old Town Temecula to offer a wide variety of farm fresh\, organic and conventional; fruits and vegetables. We feature many unusual plants and flowers. We have many complimentary items including\, bakeries\, olives\, olive oils\, cheeses\, kettle corn\, tamales\, hand made soaps and lotions. Natural pet foods are available. A small group of local artists have available some of their works.
URL:https://famouspudn.com/event/temecula-farmers-market-15/
LOCATION:CA
ATTACH;FMTTYPE=image/jpeg:https://famouspudn.com/wp-content/uploads/2022/09/4.jpg
END:VEVENT
BEGIN:VEVENT
DTSTART;VALUE=DATE:20230414
DTEND;VALUE=DATE:20230415
DTSTAMP:20260426T034355
CREATED:20230323T230436Z
LAST-MODIFIED:20230323T230901Z
UID:1943-1681430400-1681516799@famouspudn.com
SUMMARY:Bel Vino Winery: PUDN Smile's on People's Faces Campaign
DESCRIPTION:
URL:https://famouspudn.com/event/bel-vino-winery-pudn-smiles-on-peoples-faces-campaign-2/
LOCATION:CA
END:VEVENT
BEGIN:VEVENT
DTSTART;TZID=UTC:20230414T170000
DTEND;TZID=UTC:20230414T210000
DTSTAMP:20260426T034355
CREATED:20230323T230601Z
LAST-MODIFIED:20230323T230601Z
UID:1945-1681491600-1681506000@famouspudn.com
SUMMARY:Lakeside Night Market - Dos Lagos
DESCRIPTION:Dos Lagos – Corona\, Ca
URL:https://famouspudn.com/event/lakeside-night-market-dos-lagos/
LOCATION:CA
END:VEVENT
BEGIN:VEVENT
DTSTART;TZID=UTC:20230415T080000
DTEND;TZID=UTC:20230415T123000
DTSTAMP:20260426T034355
CREATED:20230308T025103Z
LAST-MODIFIED:20230516T223516Z
UID:1754-1681545600-1681561800@famouspudn.com
SUMMARY:Temecula Farmers Market 4/15
DESCRIPTION:Every Saturday morning 70-80 farmers and vendors gather in historic Old Town Temecula to offer a wide variety of farm fresh\, organic and conventional; fruits and vegetables. We feature many unusual plants and flowers. We have many complimentary items including\, bakeries\, olives\, olive oils\, cheeses\, kettle corn\, tamales\, hand made soaps and lotions. Natural pet foods are available. A small group of local artists have available some of their works.
URL:https://famouspudn.com/event/temecula-farmers-market-17/
LOCATION:CA
ATTACH;FMTTYPE=image/jpeg:https://famouspudn.com/wp-content/uploads/2022/09/4.jpg
END:VEVENT
BEGIN:VEVENT
DTSTART;TZID=UTC:20230415T120000
DTEND;TZID=UTC:20230415T180000
DTSTAMP:20260426T034355
CREATED:20230323T230735Z
LAST-MODIFIED:20230516T223502Z
UID:1947-1681560000-1681581600@famouspudn.com
SUMMARY:Murrieta Firefighter's BBQ 4/15
DESCRIPTION:
URL:https://famouspudn.com/event/murrieta-firefighters-bbq/
LOCATION:CA
END:VEVENT
BEGIN:VEVENT
DTSTART;VALUE=DATE:20230416
DTEND;VALUE=DATE:20230417
DTSTAMP:20260426T034355
CREATED:20230323T230828Z
LAST-MODIFIED:20230323T230828Z
UID:1949-1681603200-1681689599@famouspudn.com
SUMMARY:Somerset Winery: PUDN Smile's on People's Faces Campaign
DESCRIPTION:
URL:https://famouspudn.com/event/somerset-winery-pudn-smiles-on-peoples-faces-campaign/
LOCATION:CA
END:VEVENT
BEGIN:VEVENT
DTSTART;TZID=UTC:20230421T170000
DTEND;TZID=UTC:20230421T210000
DTSTAMP:20260426T034355
CREATED:20230323T231052Z
LAST-MODIFIED:20230516T223447Z
UID:1953-1682096400-1682110800@famouspudn.com
SUMMARY:Menifee Trading Post 4/21
DESCRIPTION:30141 Antelope Rd\, Menifee\, Ca
URL:https://famouspudn.com/event/menifee-trading-post-4/
LOCATION:CA
END:VEVENT
BEGIN:VEVENT
DTSTART;TZID=UTC:20230422T080000
DTEND;TZID=UTC:20230422T123000
DTSTAMP:20260426T034355
CREATED:20230308T025144Z
LAST-MODIFIED:20230516T223436Z
UID:1756-1682150400-1682166600@famouspudn.com
SUMMARY:Temecula Farmers Market 4/22
DESCRIPTION:Every Saturday morning 70-80 farmers and vendors gather in historic Old Town Temecula to offer a wide variety of farm fresh\, organic and conventional; fruits and vegetables. We feature many unusual plants and flowers. We have many complimentary items including\, bakeries\, olives\, olive oils\, cheeses\, kettle corn\, tamales\, hand made soaps and lotions. Natural pet foods are available. A small group of local artists have available some of their works.
URL:https://famouspudn.com/event/temecula-farmers-market-18/
LOCATION:CA
ATTACH;FMTTYPE=image/jpeg:https://famouspudn.com/wp-content/uploads/2022/09/4.jpg
END:VEVENT
BEGIN:VEVENT
DTSTART;TZID=UTC:20230429T080000
DTEND;TZID=UTC:20230429T123000
DTSTAMP:20260426T034355
CREATED:20230308T025232Z
LAST-MODIFIED:20230516T223358Z
UID:1758-1682755200-1682771400@famouspudn.com
SUMMARY:Temecula Farmers Market 4/29
DESCRIPTION:Every Saturday morning 70-80 farmers and vendors gather in historic Old Town Temecula to offer a wide variety of farm fresh\, organic and conventional; fruits and vegetables. We feature many unusual plants and flowers. We have many complimentary items including\, bakeries\, olives\, olive oils\, cheeses\, kettle corn\, tamales\, hand made soaps and lotions. Natural pet foods are available. A small group of local artists have available some of their works.
URL:https://famouspudn.com/event/temecula-farmers-market-19/
LOCATION:CA
ATTACH;FMTTYPE=image/jpeg:https://famouspudn.com/wp-content/uploads/2022/09/4.jpg
END:VEVENT
BEGIN:VEVENT
DTSTART;VALUE=DATE:20230505
DTEND;VALUE=DATE:20230508
DTSTAMP:20260426T034355
CREATED:20221206T164257Z
LAST-MODIFIED:20230516T220928Z
UID:1094-1683244800-1683503999@famouspudn.com
SUMMARY:Foodieland Del Mar May 5-7
DESCRIPTION:foodie land Night Market is a foodie-inspired multicultural food and entertainment event taking place at the Del Mar Fairgrounds. \nWith over 160 vendors\, we’re bringing you a variety of amazing foods\, games\, and entertainment for the whole family. Hope to see you there! \nMay 5th-7th
URL:https://famouspudn.com/event/foodieland-del-mar/
LOCATION:CA
END:VEVENT
BEGIN:VEVENT
DTSTART;TZID=UTC:20230506T080000
DTEND;TZID=UTC:20230506T123000
DTSTAMP:20260426T034355
CREATED:20230308T025312Z
LAST-MODIFIED:20230516T220850Z
UID:1760-1683360000-1683376200@famouspudn.com
SUMMARY:Temecula Farmers Market 5/6
DESCRIPTION:Every Saturday morning 70-80 farmers and vendors gather in historic Old Town Temecula to offer a wide variety of farm fresh\, organic and conventional; fruits and vegetables. We feature many unusual plants and flowers. We have many complimentary items including\, bakeries\, olives\, olive oils\, cheeses\, kettle corn\, tamales\, hand made soaps and lotions. Natural pet foods are available. A small group of local artists have available some of their works.
URL:https://famouspudn.com/event/temecula-farmers-market-20/
LOCATION:CA
ATTACH;FMTTYPE=image/jpeg:https://famouspudn.com/wp-content/uploads/2022/09/4.jpg
END:VEVENT
BEGIN:VEVENT
DTSTART;VALUE=DATE:20230512
DTEND;VALUE=DATE:20230513
DTSTAMP:20260426T034355
CREATED:20230323T231326Z
LAST-MODIFIED:20230323T231326Z
UID:1957-1683849600-1683935999@famouspudn.com
SUMMARY:Bel Vino Winery: PUDN Smile's on People's Face Campaign
DESCRIPTION:
URL:https://famouspudn.com/event/bel-vino-winery-pudn-smiles-on-peoples-face-campaign/
LOCATION:CA
END:VEVENT
BEGIN:VEVENT
DTSTART;TZID=UTC:20230512T080000
DTEND;TZID=UTC:20230512T120000
DTSTAMP:20260426T034355
CREATED:20230323T231228Z
LAST-MODIFIED:20230516T220728Z
UID:1955-1683878400-1683892800@famouspudn.com
SUMMARY:Temecula Social Golf Tournament 5/12
DESCRIPTION:
URL:https://famouspudn.com/event/temecula-social-golf-tournament/
LOCATION:CA
END:VEVENT
BEGIN:VEVENT
DTSTART;VALUE=DATE:20230513
DTEND;VALUE=DATE:20230514
DTSTAMP:20260426T034355
CREATED:20230323T231422Z
LAST-MODIFIED:20230516T223330Z
UID:1959-1683936000-1684022399@famouspudn.com
SUMMARY:Doffo Winery: PUDN Smile's on People's Faces 5/13
DESCRIPTION:
URL:https://famouspudn.com/event/doffo-winery-pudn-smiles-on-peoples-faces/
LOCATION:CA
END:VEVENT
BEGIN:VEVENT
DTSTART;TZID=UTC:20230513T080000
DTEND;TZID=UTC:20230513T123000
DTSTAMP:20260426T034355
CREATED:20230308T025352Z
LAST-MODIFIED:20230516T220705Z
UID:1762-1683964800-1683981000@famouspudn.com
SUMMARY:Temecula Farmers Market 5/13
DESCRIPTION:Every Saturday morning 70-80 farmers and vendors gather in historic Old Town Temecula to offer a wide variety of farm fresh\, organic and conventional; fruits and vegetables. We feature many unusual plants and flowers. We have many complimentary items including\, bakeries\, olives\, olive oils\, cheeses\, kettle corn\, tamales\, hand made soaps and lotions. Natural pet foods are available. A small group of local artists have available some of their works.
URL:https://famouspudn.com/event/temecula-farmers-market-21/
LOCATION:CA
ATTACH;FMTTYPE=image/jpeg:https://famouspudn.com/wp-content/uploads/2022/09/4.jpg
END:VEVENT
BEGIN:VEVENT
DTSTART;TZID=UTC:20230513T110000
DTEND;TZID=UTC:20230513T180000
DTSTAMP:20260426T034355
CREATED:20230323T231520Z
LAST-MODIFIED:20230323T231520Z
UID:1961-1683975600-1684000800@famouspudn.com
SUMMARY:SoCal Sweet Fest
DESCRIPTION:
URL:https://famouspudn.com/event/socal-sweet-fest/
LOCATION:CA
END:VEVENT
BEGIN:VEVENT
DTSTART;VALUE=DATE:20230514
DTEND;VALUE=DATE:20230515
DTSTAMP:20260426T034355
CREATED:20230323T231551Z
LAST-MODIFIED:20230516T154321Z
UID:1963-1684022400-1684108799@famouspudn.com
SUMMARY:Mother's Day
DESCRIPTION:
URL:https://famouspudn.com/event/mothers-day/
LOCATION:CA
END:VEVENT
BEGIN:VEVENT
DTSTART;TZID=UTC:20230516T080000
DTEND;TZID=UTC:20230516T170000
DTSTAMP:20260426T034355
CREATED:20230516T223743Z
LAST-MODIFIED:20230516T223743Z
UID:2269-1684224000-1684256400@famouspudn.com
SUMMARY:Foodieland Night Market - Snap Dragon Stadium July 21-23
DESCRIPTION:Snap Dragon Stadium \n2101 Stadium Way\, San Diego\, Ca
URL:https://famouspudn.com/event/foodieland-night-market-snap-dragon-stadium-july-21-23/
LOCATION:CA
END:VEVENT
BEGIN:VEVENT
DTSTART;TZID=UTC:20230519T060000
DTEND;TZID=UTC:20230521T220000
DTSTAMP:20260426T034355
CREATED:20230308T024405Z
LAST-MODIFIED:20230516T220643Z
UID:1743-1684476000-1684706400@famouspudn.com
SUMMARY:Temecula Valley Balloon & Wine Festival May 19-21
DESCRIPTION:Lake Skinner \n  \n\nFriday: 3pm – 10pm\nSaturday: 6am – 10pm\nSunday: 6am – 6pm
URL:https://famouspudn.com/event/temecula-valley-balloon-wine-festival/
LOCATION:CA
END:VEVENT
BEGIN:VEVENT
DTSTART;TZID=UTC:20230520T080000
DTEND;TZID=UTC:20230520T123000
DTSTAMP:20260426T034355
CREATED:20230308T025443Z
LAST-MODIFIED:20230516T223313Z
UID:1764-1684569600-1684585800@famouspudn.com
SUMMARY:Temecula Farmers Market 5/20
DESCRIPTION:Every Saturday morning 70-80 farmers and vendors gather in historic Old Town Temecula to offer a wide variety of farm fresh\, organic and conventional; fruits and vegetables. We feature many unusual plants and flowers. We have many complimentary items including\, bakeries\, olives\, olive oils\, cheeses\, kettle corn\, tamales\, hand made soaps and lotions. Natural pet foods are available. A small group of local artists have available some of their works.
URL:https://famouspudn.com/event/temecula-farmers-market-22/
LOCATION:CA
ATTACH;FMTTYPE=image/jpeg:https://famouspudn.com/wp-content/uploads/2022/09/4.jpg
END:VEVENT
BEGIN:VEVENT
DTSTART;TZID=UTC:20230527T100000
DTEND;TZID=UTC:20230529T190000
DTSTAMP:20260426T034355
CREATED:20230518T171708Z
LAST-MODIFIED:20230518T171708Z
UID:2291-1685181600-1685386800@famouspudn.com
SUMMARY:Topanga Day County Fair May 27th - 29th
DESCRIPTION:1440 Topanga Canyon Blvd
URL:https://famouspudn.com/event/topanga-day-county-fair-may-27th-29th/
LOCATION:CA
END:VEVENT
BEGIN:VEVENT
DTSTART;TZID=UTC:20230601T170000
DTEND;TZID=UTC:20230601T210000
DTSTAMP:20260426T034355
CREATED:20230516T221417Z
LAST-MODIFIED:20230516T223301Z
UID:2231-1685638800-1685653200@famouspudn.com
SUMMARY:Murrieta Night Market 6/1
DESCRIPTION:Location on Washington Ave\, Murrieta\, Ca
URL:https://famouspudn.com/event/murrieta-night-market-jun-1st/
LOCATION:CA
END:VEVENT
BEGIN:VEVENT
DTSTART;TZID=UTC:20230602T170000
DTEND;TZID=UTC:20230602T210000
DTSTAMP:20260426T034355
CREATED:20230516T221605Z
LAST-MODIFIED:20230516T225716Z
UID:2235-1685725200-1685739600@famouspudn.com
SUMMARY:Murrieta Foodie Friday 6/2
DESCRIPTION:Located at MSJC \n28237 La Piedra Road\, Menifee\, Ca 92584
URL:https://famouspudn.com/event/murrieta-foodie-friday-june-2nd/
LOCATION:CA
END:VEVENT
END:VCALENDAR