BEGIN:VCALENDAR
VERSION:2.0
PRODID:-//Famous Pudn | Kettle Cooked Gluten-Free Pudding Cafe in Murrieta, CA - ECPv6.15.13//NONSGML v1.0//EN
CALSCALE:GREGORIAN
METHOD:PUBLISH
X-WR-CALNAME:Famous Pudn | Kettle Cooked Gluten-Free Pudding Cafe in Murrieta, CA
X-ORIGINAL-URL:https://famouspudn.com
X-WR-CALDESC:Events for Famous Pudn | Kettle Cooked Gluten-Free Pudding Cafe in Murrieta, CA
REFRESH-INTERVAL;VALUE=DURATION:PT1H
X-Robots-Tag:noindex
X-PUBLISHED-TTL:PT1H
BEGIN:VTIMEZONE
TZID:UTC
BEGIN:STANDARD
TZOFFSETFROM:+0000
TZOFFSETTO:+0000
TZNAME:UTC
DTSTART:20240101T000000
END:STANDARD
END:VTIMEZONE
BEGIN:VEVENT
DTSTART;TZID=UTC:20251204T170000
DTEND;TZID=UTC:20251204T210000
DTSTAMP:20260423T161843
CREATED:20251110T222409Z
LAST-MODIFIED:20251110T222409Z
UID:2987-1764867600-1764882000@famouspudn.com
SUMMARY:Murrieta Night Market- Thursday\, December 4th
DESCRIPTION:Murrieta Market Nights are held on the 1st and 3rd Thursday of each month\, between 5 p.m. – 9 p.m.\, in the heart of Downtown Murrieta. Each event brings hundreds of shoppers to downtown\, with street closures for vendors and entertainment occurring along Washington Avenue and Juniper Street. Visitors enjoy a diverse range of vendors\, music\, food\, and activities. Artisans\, crafters\, local businesses\, musicians\, and artists bring creative energy to the night. An important goal of Murrieta Market Nights is supporting small and local businesses\, as well as participating artists.
URL:https://famouspudn.com/event/murrieta-night-market-thursday-december-4th/
LOCATION:Murrieta Market\, 24810 Washington Ave\, Murrieta\, CA\, 92562\, United States
ATTACH;FMTTYPE=image/jpeg:https://famouspudn.com/wp-content/uploads/2023/09/Murrieta-Night-Markets.jpeg
END:VEVENT
BEGIN:VEVENT
DTSTART;TZID=UTC:20251202T173000
DTEND;TZID=UTC:20251207T213000
DTSTAMP:20260423T161843
CREATED:20251110T220501Z
LAST-MODIFIED:20251110T220501Z
UID:2973-1764696600-1765143000@famouspudn.com
SUMMARY:Enchant Christmas- Tuesday-Sunday\, December 2nd-7th
DESCRIPTION:Sip\, snack and savor the season with festive bites and holiday spirits at Enchant in Los Angeles. Enjoy some PUDN while you explore the world’s largest light maze! \nWeekend Hours: \n\nTuesday: 5:30pm-9:30pm\nWednesday: 5:30pm-9:30pm\nThursday: 5:30pm-9:30pm\nFriday: 5:30pm-10:30pm\nSaturday: 12pm-4pm and 4:30pm-11:30pm\nSunday: 12pm-4pm and 4:30pm-9:30pm
URL:https://famouspudn.com/event/enchant-christmas-tuesday-sunday-december-2nd-7th/
LOCATION:Enchant Christmas\, 285 W Huntington Dr\, Arcadia\, 91007\, United States
ATTACH;FMTTYPE=image/png:https://famouspudn.com/wp-content/uploads/2025/11/ENC25_LAX_Venue_Email_1920x1080.png
END:VEVENT
BEGIN:VEVENT
DTSTART;TZID=UTC:20251202T160000
DTEND;TZID=UTC:20251202T210000
DTSTAMP:20260423T161843
CREATED:20251201T191347Z
LAST-MODIFIED:20251201T191347Z
UID:3071-1764691200-1764709200@famouspudn.com
SUMMARY:Wanderlust Food Truck Fest\, Tuesday December 2nd
DESCRIPTION:Join us at Murrieta Hot Springs for Wanderlust Food Truck Fest!
URL:https://famouspudn.com/event/wanderlust-food-truck-fest-tuesday-december-2nd/
LOCATION:Wanderlust Food Truck Fest\, 39405 Murrieta Hot Springs Rd\, Murrieta\, 92563\, United States
ATTACH;FMTTYPE=image/jpeg:https://famouspudn.com/wp-content/uploads/2025/11/images-7.jpeg
END:VEVENT
BEGIN:VEVENT
DTSTART;TZID=UTC:20251128T173000
DTEND;TZID=UTC:20251130T173000
DTSTAMP:20260423T161843
CREATED:20251110T220148Z
LAST-MODIFIED:20251110T220148Z
UID:2971-1764351000-1764523800@famouspudn.com
SUMMARY:Enchant Christmas- Friday-Sunday\, November 28th-30th
DESCRIPTION:Sip\, snack and savor the season with festive bites and holiday spirits at Enchant in Los Angeles. Enjoy some PUDN while you explore the world’s largest light maze! \nWeekend Hours: \n\nFriday: 5:30pm-10:30pm\nSaturday: 4:30pm-11:30pm\nSunday: 4:30pm-9:30pm
URL:https://famouspudn.com/event/enchant-christmas-friday-sunday-november-28th-30th/
LOCATION:Enchant Christmas\, 285 W Huntington Dr\, Arcadia\, 91007\, United States
ATTACH;FMTTYPE=image/png:https://famouspudn.com/wp-content/uploads/2025/11/ENC25_LAX_Venue_Email_1920x1080.png
END:VEVENT
BEGIN:VEVENT
DTSTART;TZID=UTC:20251128T080000
DTEND;TZID=UTC:20251129T123000
DTSTAMP:20260423T161843
CREATED:20251110T230355Z
LAST-MODIFIED:20251110T230355Z
UID:3016-1764316800-1764419400@famouspudn.com
SUMMARY:Temecula Farmers Market- Saturday\, November 29th
DESCRIPTION:Every Saturday morning 70-80 farmers and vendors gather in historic Old Town Temecula to offer a wide variety of farm fresh\, organic and conventional: fruits and vegetables. We feature many unusual plants and flowers. We have many complimentary items including\, bakeries\, olives\, olive oils\, cheeses\, kettle corn\, tamales\, handmade soaps and lotions. Natural pet foods are available. A small group of local artists have available some of their works.
URL:https://famouspudn.com/event/temecula-farmers-market-saturday-november-29th/
LOCATION:Temecula Farmers Market\, Sixth & Front St.\, Temecula\, 92590\, United States
ATTACH;FMTTYPE=image/jpeg:https://famouspudn.com/wp-content/uploads/2022/09/4.jpg
END:VEVENT
BEGIN:VEVENT
DTSTART;TZID=UTC:20251126T173000
DTEND;TZID=UTC:20251126T223000
DTSTAMP:20260423T161843
CREATED:20251110T220009Z
LAST-MODIFIED:20251110T220009Z
UID:2969-1764178200-1764196200@famouspudn.com
SUMMARY:Enchant Christmas- Wednesday\, November 26th
DESCRIPTION:Sip\, snack and savor the season with festive bites and holiday spirits at Enchant in Los Angeles. Enjoy some PUDN while you explore the world’s largest light maze!
URL:https://famouspudn.com/event/enchant-christmas-wednesday-november-26th/
LOCATION:Enchant Christmas\, 285 W Huntington Dr\, Arcadia\, 91007\, United States
ATTACH;FMTTYPE=image/png:https://famouspudn.com/wp-content/uploads/2025/11/ENC25_LAX_Venue_Email_1920x1080.png
END:VEVENT
BEGIN:VEVENT
DTSTART;TZID=UTC:20251125T160000
DTEND;TZID=UTC:20251125T210000
DTSTAMP:20260423T161843
CREATED:20251107T223421Z
LAST-MODIFIED:20251121T232717Z
UID:2941-1764086400-1764104400@famouspudn.com
SUMMARY:Wanderlust Food Truck Fest Murrieta - Tuesday\, November 25th
DESCRIPTION:Join us at Murrieta Hot Springs resort for the Wanderlust Food Truck Fest!
URL:https://famouspudn.com/event/wanderlust-food-truck-fest-murrieta-tuesday-november-11th/
LOCATION:Wanderlust Food Truck Fest\, 39405 Murrieta Hot Springs Rd\, Murrieta\, 92563\, United States
ATTACH;FMTTYPE=image/jpeg:https://famouspudn.com/wp-content/uploads/2025/11/images-7.jpeg
END:VEVENT
BEGIN:VEVENT
DTSTART;TZID=UTC:20251122T110000
DTEND;TZID=UTC:20251123T200000
DTSTAMP:20260423T161843
CREATED:20251110T221656Z
LAST-MODIFIED:20251121T232620Z
UID:2979-1763809200-1763928000@famouspudn.com
SUMMARY:For the People Local Market- Saturday\, November 22nd
DESCRIPTION:Come shop small\, support your local businesses\, and discover amazing vendors.And don’t miss out on some delicious pudding while you’re here!
URL:https://famouspudn.com/event/for-the-people-local-market-saturday-sunday-november-22nd-23rd/
LOCATION:Temecula Mall\, Promenade Temecula 40820 Winchester Road\, Temecula\, CA\, 92591\, United States
ATTACH;FMTTYPE=image/png:https://famouspudn.com/wp-content/uploads/2025/11/For-the-People-Events_D3D515CF-D8C1-93AB-CD305E36F27F6F1E_d3fd8714-c11f-48a6-309cf741e03a97c0.png
END:VEVENT
BEGIN:VEVENT
DTSTART;TZID=UTC:20251121T173000
DTEND;TZID=UTC:20251123T213000
DTSTAMP:20260423T161843
CREATED:20251110T215842Z
LAST-MODIFIED:20251110T215842Z
UID:2967-1763746200-1763933400@famouspudn.com
SUMMARY:Enchant Christmas- Friday-Sunday\, November 21st-23rd
DESCRIPTION:Sip\, snack and savor the season with festive bites and holiday spirits at Enchant in Los Angeles. Enjoy some PUDN while you explore the world’s largest light maze! \nWeekend Hours: \n\nFriday: 5:30pm-10:30pm\nSaturday: 4:30pm-11:30pm\nSunday: 4:30pm-9:30pm
URL:https://famouspudn.com/event/enchant-christmas-friday-sunday-november-21st-23rd/
LOCATION:Enchant Christmas\, 285 W Huntington Dr\, Arcadia\, 91007\, United States
ATTACH;FMTTYPE=image/png:https://famouspudn.com/wp-content/uploads/2025/11/ENC25_LAX_Venue_Email_1920x1080.png
END:VEVENT
BEGIN:VEVENT
DTSTART;TZID=UTC:20251121T170000
DTEND;TZID=UTC:20251121T210000
DTSTAMP:20260423T161843
CREATED:20251111T193402Z
LAST-MODIFIED:20251120T213547Z
UID:3030-1763744400-1763758800@famouspudn.com
SUMMARY:Lakeside Night Market Corona- Friday\, November 21st
DESCRIPTION:Simply Made Local was founded in 2019 by three registered nurses serving the city of Corona. Their mission is to empower and expand our local handmade artist community. They firmly believe in supporting local businesses and now they are hosting an artisan market at The Shops at Dos Lagos. The “Night Market at Dos Lagos” will occur on every 2nd Friday of each month. We anticipate +50 carefully selected handmade artists’ participation!
URL:https://famouspudn.com/event/murrieta-farmers-market-village-walk-sunday-november-23rd/
LOCATION:Lakeside Night Market\, 2780 Cabot Dr.\, Corona\, CA\, 92883\, United States
ATTACH;FMTTYPE=image/jpeg:https://famouspudn.com/wp-content/uploads/2025/11/latenight.jpg
END:VEVENT
BEGIN:VEVENT
DTSTART;TZID=UTC:20251120T190000
DTEND;TZID=UTC:20251120T220000
DTSTAMP:20260423T161843
CREATED:20251110T211656Z
LAST-MODIFIED:20251110T211656Z
UID:2953-1763665200-1763676000@famouspudn.com
SUMMARY:Palm Springs Village Fest- Thursday\, November 20th
DESCRIPTION:The Thursday night street fair featuring arts\, crafts\, food and entertainment! Looking for things to do in Coachella Valley? We invite you to join thousands of visitors and locals to beautiful downtown Palm Springs this Thursday for the Valley’s finest event.
URL:https://famouspudn.com/event/palm-springs-village-fest-thursday-november-20th/
LOCATION:Village Fest\, 401 S Pavilion Way\, Palm Springs\, CA\, 92262
ATTACH;FMTTYPE=image/jpeg:https://famouspudn.com/wp-content/uploads/2024/08/villagefest.jpg
END:VEVENT
BEGIN:VEVENT
DTSTART;TZID=UTC:20251120T170000
DTEND;TZID=UTC:20251120T210000
DTSTAMP:20260423T161843
CREATED:20251110T213257Z
LAST-MODIFIED:20251110T213257Z
UID:2958-1763658000-1763672400@famouspudn.com
SUMMARY:Main Street Oceanside Sunset Market- Thursday\, November 20th
DESCRIPTION:Featuring up to 200 merchants and spanning four city blocks\, MainStreet Oceanside’s Sunset Market is San Diego County’s top weekly food and music street fair. Every Thursday from 5-9 p.m.\, thousands of residents and visitors alike gather here to enjoy hot food from around the world\, gourmet goodies and desserts\, eclectic shopping and live entertainment. Located on Pier View Way west of Coast Highway in Downtown Oceanside since 2007\, this free\, family-friendly event also features Dorothy’s KidZone with children’s activities.
URL:https://famouspudn.com/event/main-street-oceanside-sunset-market-thursday-november-20th/
LOCATION:Oceanside Night Market\, 401 Pier View Way\, Oceanside\, CA\, 92054\, United States
ATTACH;FMTTYPE=image/jpeg:https://famouspudn.com/wp-content/uploads/2024/09/Blog-Cover-8.jpg
END:VEVENT
BEGIN:VEVENT
DTSTART;TZID=UTC:20251120T170000
DTEND;TZID=UTC:20251120T210000
DTSTAMP:20260423T161843
CREATED:20251110T211249Z
LAST-MODIFIED:20251110T211559Z
UID:2950-1763658000-1763672400@famouspudn.com
SUMMARY:Murrieta Night Market- Thursday\, November 20th
DESCRIPTION:Murrieta Market Nights are held on the 1st and 3rd Thursday of each month\, between 5 p.m. – 9 p.m.\, in the heart of Downtown Murrieta. Each event brings hundreds of shoppers to downtown\, with street closures for vendors and entertainment occurring along Washington Avenue and Juniper Street. Visitors enjoy a diverse range of vendors\, music\, food\, and activities. Artisans\, crafters\, local businesses\, musicians\, and artists bring creative energy to the night. An important goal of Murrieta Market Nights is supporting small and local businesses\, as well as participating artists.
URL:https://famouspudn.com/event/murrieta-night-market-november-20th/
LOCATION:Murrieta Market\, 24810 Washington Ave\, Murrieta\, CA\, 92562\, United States
ATTACH;FMTTYPE=image/jpeg:https://famouspudn.com/wp-content/uploads/2023/09/Murrieta-Night-Markets.jpeg
END:VEVENT
BEGIN:VEVENT
DTSTART;TZID=UTC:20251119T173000
DTEND;TZID=UTC:20251119T213000
DTSTAMP:20260423T161843
CREATED:20251110T215603Z
LAST-MODIFIED:20251110T215603Z
UID:2965-1763573400-1763587800@famouspudn.com
SUMMARY:Enchant Christmas- Wednesday\, November 19th
DESCRIPTION:Sip\, snack and savor the season with festive bites and holiday spirits at Enchant in Los Angeles. Enjoy some PUDN while you explore the world’s largest light maze!
URL:https://famouspudn.com/event/enchant-christmas-wednesday-november-19th/
LOCATION:Enchant Christmas\, 285 W Huntington Dr\, Arcadia\, 91007\, United States
ATTACH;FMTTYPE=image/png:https://famouspudn.com/wp-content/uploads/2025/11/ENC25_LAX_Venue_Email_1920x1080.png
END:VEVENT
BEGIN:VEVENT
DTSTART;TZID=UTC:20251117T173000
DTEND;TZID=UTC:20251117T203000
DTSTAMP:20260423T161843
CREATED:20251110T215404Z
LAST-MODIFIED:20251110T215404Z
UID:2960-1763400600-1763411400@famouspudn.com
SUMMARY:Enchant Christmas - Monday November 17th
DESCRIPTION:Sip\, snack and savor the season with festive bites and holiday spirits at Enchant in Los Angeles. Enjoy some PUDN while you explore the world’s largest light maze!
URL:https://famouspudn.com/event/enchant-christmas-monday-november-17th/
LOCATION:Enchant Christmas\, 285 W Huntington Dr\, Arcadia\, 91007\, United States
ATTACH;FMTTYPE=image/png:https://famouspudn.com/wp-content/uploads/2025/11/ENC25_LAX_Venue_Email_1920x1080.png
END:VEVENT
BEGIN:VEVENT
DTSTART;TZID=UTC:20251113T190000
DTEND;TZID=UTC:20251113T220000
DTSTAMP:20260423T161843
CREATED:20251110T211036Z
LAST-MODIFIED:20251110T211546Z
UID:2948-1763060400-1763071200@famouspudn.com
SUMMARY:Palm Springs Village Fest- Thursday\, November 13th
DESCRIPTION:The Thursday night street fair featuring arts\, crafts\, food and entertainment! Looking for things to do in Coachella Valley? We invite you to join thousands of visitors and locals to beautiful downtown Palm Springs this Thursday for the Valley’s finest event.
URL:https://famouspudn.com/event/palm-springs-village-fest-november-13th/
LOCATION:Village Fest\, 401 S Pavilion Way\, Palm Springs\, CA\, 92262
ATTACH;FMTTYPE=image/jpeg:https://famouspudn.com/wp-content/uploads/2024/08/villagefest.jpg
END:VEVENT
BEGIN:VEVENT
DTSTART;TZID=UTC:20251113T170000
DTEND;TZID=UTC:20251113T210000
DTSTAMP:20260423T161843
CREATED:20251110T212823Z
LAST-MODIFIED:20251110T212823Z
UID:2952-1763053200-1763067600@famouspudn.com
SUMMARY:Main Street Oceanside Sunset Market- Thursday\, November 13th
DESCRIPTION:Featuring up to 200 merchants and spanning four city blocks\, MainStreet Oceanside’s Sunset Market is San Diego County’s top weekly food and music street fair. Every Thursday from 5-9 p.m.\, thousands of residents and visitors alike gather here to enjoy hot food from around the world\, gourmet goodies and desserts\, eclectic shopping and live entertainment. Located on Pier View Way west of Coast Highway in Downtown Oceanside since 2007\, this free\, family-friendly event also features Dorothy’s KidZone with children’s activities.
URL:https://famouspudn.com/event/main-street-oceanside-sunset-market-thursday-november-13th/
LOCATION:Oceanside Night Market\, 401 Pier View Way\, Oceanside\, CA\, 92054\, United States
ATTACH;FMTTYPE=image/jpeg:https://famouspudn.com/wp-content/uploads/2024/09/Blog-Cover-8.jpg
END:VEVENT
BEGIN:VEVENT
DTSTART;TZID=UTC:20251108T110000
DTEND;TZID=UTC:20251108T220000
DTSTAMP:20260423T161843
CREATED:20251107T211407Z
LAST-MODIFIED:20251107T211407Z
UID:2937-1762599600-1762639200@famouspudn.com
SUMMARY:Pride Festival of Palm Springs- Saturday\, November 8th
DESCRIPTION:Palm Springs Pride Celebration 2025 Experience the vibrant energy of Palm Springs Pride\, a multi-day celebration of love\, diversity\, and community! From November 6–9\, downtown Palm Springs transforms into a colorful festival of music\, entertainment\, and LGBTQ+ pride. \n\nThursday\, Nov 6 – Latin Pride on Arenas Road kicks off the celebration with music\, dancing\, and culture.\nFriday\, Nov 7 – Arenas District Pride Kick-Off sets the tone for a weekend of festivities.\nSaturday\, Nov 8 – The Pride Festival takes over multiple open-air venues with live performances\, exhibitors\, and community gatherings.\nSunday\, Nov 9 – The festival continues\, culminating in the Pride Parade\, a dazzling display of unity and pride. This FREE and open-to-the-public event invites everyone to sip\, sashay\, and celebrate in the heart of Palm Springs. Join us as we honor the past\, celebrate the present\, and inspire the future of our LGBTQ+ community!
URL:https://famouspudn.com/event/pride-festival-of-palm-springs-saturday-november-8th/
LOCATION:Palm Springs Pride\, 2200 N Palm Canyon Dr\, Palm Springs\, 92262\, United States
ATTACH;FMTTYPE=image/jpeg:https://famouspudn.com/wp-content/uploads/2025/11/images-6.jpeg
END:VEVENT
BEGIN:VEVENT
DTSTART;TZID=UTC:20251108T080000
DTEND;TZID=UTC:20251108T123000
DTSTAMP:20260423T161843
CREATED:20251107T205439Z
LAST-MODIFIED:20251107T205439Z
UID:2935-1762588800-1762605000@famouspudn.com
SUMMARY:Temecula Farmers Market - Saturday\, November 8th
DESCRIPTION:Every Saturday morning 70-80 farmers and vendors gather in historic Old Town Temecula to offer a wide variety of farm fresh\, organic and conventional; fruits and vegetables. We feature many unusual plants and flowers. We have many complimentary items including\, bakeries\, olives\, olive oils\, cheeses\, kettle corn\, tamales\, hand made soaps and lotions. Natural pet foods are available. A small group of local artists have available some of their works.
URL:https://famouspudn.com/event/temecula-farmers-market-saturday-november-8th/
LOCATION:Temecula Farmers Market\, Sixth & Front St.\, Temecula\, 92590\, United States
ATTACH;FMTTYPE=image/jpeg:https://famouspudn.com/wp-content/uploads/2022/09/4.jpg
END:VEVENT
BEGIN:VEVENT
DTSTART;TZID=UTC:20251107T180000
DTEND;TZID=UTC:20251107T220000
DTSTAMP:20260423T161843
CREATED:20251107T202307Z
LAST-MODIFIED:20251107T204227Z
UID:2933-1762538400-1762552800@famouspudn.com
SUMMARY:Menifee Foodie Friday at MSJC - Friday\, November 7th
DESCRIPTION:The region’s favorite food-centric event is back in Menifee – Foodie Fridays! Running March through October\, on the first Friday of each month at MSJC Menifee. Over 50 local food vendors\, shopping\, train rides\, beer garden\, live music\, kid activities\, and more! Free event. Free parking.
URL:https://famouspudn.com/event/menifee-foodie-friday-at-msjc-friday-november-7th/
LOCATION:Menifee Foodie Friday\, 28237 La Piedra Rd\, Menifee\, CA\, 92584\, United States
ATTACH;FMTTYPE=image/jpeg:https://famouspudn.com/wp-content/uploads/2024/09/download-2.jpg
END:VEVENT
BEGIN:VEVENT
DTSTART;VALUE=DATE:20251010
DTEND;VALUE=DATE:20251013
DTSTAMP:20260423T161843
CREATED:20250220T191559Z
LAST-MODIFIED:20250220T191559Z
UID:2852-1760054400-1760313599@famouspudn.com
SUMMARY:Foodieland Night Market - Phoenix\, Arizona - Friday\, October 10th - Sunday\, October 12th
DESCRIPTION:FoodieLand is a foodie inspired multi-cultural food and entertainment event taking place at Cal Expo.\nWith over 190+ vendors\, we’re bringing you a variety of amazing foods\, arts\, crafts\, games\, and entertainment for the whole family. Hope to see you there!\nFoodieLand is a foodie inspired multi-cultural food and entertainment event taking place at Cal Expo.\nTimes:\nFriday: 3pm-10pm\nSaturday: 1pm-10pm\nSunday: 1pm-10pm
URL:https://famouspudn.com/event/foodieland-night-market-phoenix-arizona-friday-october-10th-sunday-october-12th/
LOCATION:Phoenix Raceway\, 7602 Jimmie Johnson Dr.\, Avondale\, AZ\, 85323\, United States
ATTACH;FMTTYPE=image/jpeg:https://famouspudn.com/wp-content/uploads/2022/12/Foodieland.jpeg
END:VEVENT
BEGIN:VEVENT
DTSTART;TZID=UTC:20250920T080000
DTEND;TZID=UTC:20250920T123000
DTSTAMP:20260423T161843
CREATED:20250610T182244Z
LAST-MODIFIED:20250828T193301Z
UID:2869-1758355200-1758371400@famouspudn.com
SUMMARY:Temecula Farmers Market - Saturday\, September 20th
DESCRIPTION:Every Saturday morning 70-80 farmers and vendors gather in historic Old Town Temecula to offer a wide variety of farm fresh\, organic and conventional; fruits and vegetables. We feature many unusual plants and flowers. We have many complimentary items including\, bakeries\, olives\, olive oils\, cheeses\, kettle corn\, tamales\, hand made soaps and lotions. Natural pet foods are available. A small group of local artists have available some of their works.
URL:https://famouspudn.com/event/temecula-farmers-market-saturday-june-14th/
LOCATION:Temecula Farmers Market\, Sixth & Front St.\, Temecula\, 92590\, United States
ATTACH;FMTTYPE=image/jpeg:https://famouspudn.com/wp-content/uploads/2022/09/4.jpg
END:VEVENT
BEGIN:VEVENT
DTSTART;TZID=UTC:20250918T190000
DTEND;TZID=UTC:20250918T220000
DTSTAMP:20260423T161843
CREATED:20250103T182803Z
LAST-MODIFIED:20250828T193225Z
UID:2719-1758222000-1758232800@famouspudn.com
SUMMARY:Palm Springs Village Fest - Thursday\, September 18th
DESCRIPTION:The Thursday night street fair featuring arts\, crafts\, food and entertainment! Looking for things to do in Coachella Valley? We invite you to join thousands of visitors and locals to beautiful downtown Palm Springs this Thursday for the Valley’s finest event.
URL:https://famouspudn.com/event/village-fest-in-palm-springs-thursday-january-9th/
LOCATION:Village Fest\, 401 S Pavilion Way\, Palm Springs\, CA\, 92262
ATTACH;FMTTYPE=image/jpeg:https://famouspudn.com/wp-content/uploads/2024/08/villagefest.jpg
END:VEVENT
BEGIN:VEVENT
DTSTART;TZID=UTC:20250918T170000
DTEND;TZID=UTC:20250918T210000
DTSTAMP:20260423T161843
CREATED:20250103T182704Z
LAST-MODIFIED:20250828T190203Z
UID:2717-1758214800-1758229200@famouspudn.com
SUMMARY:Main Street Oceanside Sunset Market - Thursday\, September 18th
DESCRIPTION:Featuring up to 200 merchants and spanning four city blocks\, MainStreet Oceanside’s Sunset Market is San Diego County’s top weekly food and music street fair. Every Thursday from 5-9 p.m.\, thousands of residents and visitors alike gather here to enjoy hot food from around the world\, gourmet goodies and desserts\, eclectic shopping and live entertainment. Located on Pier View Way west of Coast Highway in Downtown Oceanside since 2007\, this free\, family-friendly event also features Dorothy’s KidZone with children’s activities.
URL:https://famouspudn.com/event/main-street-oceanside-sunset-market-thursday-january-9th/
LOCATION:Oceanside Night Market\, 401 Pier View Way\, Oceanside\, CA\, 92054\, United States
ATTACH;FMTTYPE=image/jpeg:https://famouspudn.com/wp-content/uploads/2024/09/Blog-Cover-8.jpg
END:VEVENT
BEGIN:VEVENT
DTSTART;TZID=UTC:20250918T170000
DTEND;TZID=UTC:20250918T210000
DTSTAMP:20260423T161843
CREATED:20241109T181706Z
LAST-MODIFIED:20250828T193155Z
UID:2696-1758214800-1758229200@famouspudn.com
SUMMARY:Murrieta Market Nights - Thursday\, September 18th
DESCRIPTION:Murrieta Market Nights are held on the 1st and 3rd Thursday of each month\, between 5 p.m. – 9 p.m.\, in the heart of Downtown Murrieta. Each event brings hundreds of shoppers to downtown\, with street closures for vendors and entertainment occurring along Washington Avenue and Juniper Street. Visitors enjoy a diverse range of vendors\, music\, food\, and activities. Artisans\, crafters\, local businesses\, musicians\, and artists bring creative energy to the night. An important goal of Murrieta Market Nights is supporting small and local businesses\, as well as participating artists.
URL:https://famouspudn.com/event/murrieta-night-market-thursday-december-5th/
LOCATION:Murrieta Market\, 24810 Washington Ave\, Murrieta\, CA\, 92562\, United States
ATTACH;FMTTYPE=image/jpeg:https://famouspudn.com/wp-content/uploads/2023/09/Murrieta-Night-Markets.jpeg
END:VEVENT
BEGIN:VEVENT
DTSTART;TZID=UTC:20250914T110000
DTEND;TZID=UTC:20250914T160000
DTSTAMP:20260423T161843
CREATED:20250820T205927Z
LAST-MODIFIED:20250820T205927Z
UID:2919-1757847600-1757865600@famouspudn.com
SUMMARY:The Taste of Europa - Sunday\, September 14th
DESCRIPTION:The Great Taste of Europa Wine & Food Festival is your passport to an unforgettable culinary and libation adventure. Sip\, savor\, and explore the best of Europe all in one place. From the vineyards of Italy to the shores of Portugal\, immerse yourself in a world of flavor where every sip and bite tells a story. With over 50 exceptional wines\, a dedicated beer and spirits garden\, gourmet bites crafted by our award-winning culinary team\, and an array of unique entertainment\, this isn’t just a festival\, it’s a feast for the senses. \nAre you ready to Uncork Europe?
URL:https://famouspudn.com/event/the-taste-of-europa-sunday-september-14th/
LOCATION:Europa Winery\, 41150 Via Europa\, Temecula\, CA\, 92591\, United States
ATTACH;FMTTYPE=image/webp:https://famouspudn.com/wp-content/uploads/2025/08/Great_Taste_Logo_Green.webp
END:VEVENT
BEGIN:VEVENT
DTSTART;TZID=UTC:20250913T080000
DTEND;TZID=UTC:20250913T123000
DTSTAMP:20260423T161843
CREATED:20241109T182038Z
LAST-MODIFIED:20250820T204756Z
UID:2700-1757750400-1757766600@famouspudn.com
SUMMARY:Temecula Farmers Market - Saturday\, September 13th
DESCRIPTION:Every Saturday morning 70-80 farmers and vendors gather in historic Old Town Temecula to offer a wide variety of farm fresh\, organic and conventional; fruits and vegetables. We feature many unusual plants and flowers. We have many complimentary items including\, bakeries\, olives\, olive oils\, cheeses\, kettle corn\, tamales\, hand made soaps and lotions. Natural pet foods are available. A small group of local artists have available some of their works.
URL:https://famouspudn.com/event/temecula-farmers-market-saturday-december-7th/
LOCATION:Temecula Farmers Market\, Sixth & Front St.\, Temecula\, 92590\, United States
ATTACH;FMTTYPE=image/jpeg:https://famouspudn.com/wp-content/uploads/2022/09/4.jpg
END:VEVENT
BEGIN:VEVENT
DTSTART;TZID=UTC:20250912T170000
DTEND;TZID=UTC:20250912T210000
DTSTAMP:20260423T161843
CREATED:20250131T204234Z
LAST-MODIFIED:20250820T204713Z
UID:2756-1757696400-1757710800@famouspudn.com
SUMMARY:Lakeside Night Market - Friday\, September 12th
DESCRIPTION:Join us every second Friday of the month for an enchanting evening of shopping by the lake\, illuminated by twinkling stars above. Explore local vendors offering unique finds\, groove to live music\, sip on refreshing drinks in the Beer Garden\, indulge in delicious street foods and desserts\, savor tasty kettle corn\, sample raw local honey\, and spice things up with fresh salsa. This lively event is perfect for the whole family\, including your furry friends! Best of all\, admission is free and parking is on the house. Let’s make memories and celebrate our community together!
URL:https://famouspudn.com/event/lakeside-night-market-friday-february-14th/
LOCATION:Lakeside Night Market\, 2780 Cabot Dr.\, Corona\, CA\, 92883\, United States
ATTACH;FMTTYPE=image/webp:https://famouspudn.com/wp-content/uploads/2023/10/Lakeside.webp
END:VEVENT
BEGIN:VEVENT
DTSTART;TZID=UTC:20250911T190000
DTEND;TZID=UTC:20250911T220000
DTSTAMP:20260423T161843
CREATED:20250131T204141Z
LAST-MODIFIED:20250820T204609Z
UID:2754-1757617200-1757628000@famouspudn.com
SUMMARY:Palm Springs Village Fest - Thursday\, September 11th
DESCRIPTION:The Thursday night street fair featuring arts\, crafts\, food and entertainment! Looking for things to do in Coachella Valley? We invite you to join thousands of visitors and locals to beautiful downtown Palm Springs this Thursday for the Valley’s finest event.
URL:https://famouspudn.com/event/village-fest-in-palm-springs-thursday-february-13th/
LOCATION:Village Fest\, 401 S Pavilion Way\, Palm Springs\, CA\, 92262
ATTACH;FMTTYPE=image/jpeg:https://famouspudn.com/wp-content/uploads/2024/08/villagefest.jpg
END:VEVENT
BEGIN:VEVENT
DTSTART;TZID=UTC:20250911T170000
DTEND;TZID=UTC:20250911T210000
DTSTAMP:20260423T161843
CREATED:20250103T200920Z
LAST-MODIFIED:20250820T204448Z
UID:2725-1757610000-1757624400@famouspudn.com
SUMMARY:Main Street Oceanside Sunset Market - Thursday\, September 11th
DESCRIPTION:Featuring up to 200 merchants and spanning four city blocks\, MainStreet Oceanside’s Sunset Market is San Diego County’s top weekly food and music street fair. Every Thursday from 5-9 p.m.\, thousands of residents and visitors alike gather here to enjoy hot food from around the world\, gourmet goodies and desserts\, eclectic shopping and live entertainment. Located on Pier View Way west of Coast Highway in Downtown Oceanside since 2007\, this free\, family-friendly event also features Dorothy’s KidZone with children’s activities.
URL:https://famouspudn.com/event/main-street-oceanside-sunset-market-thursday-january-16th/
LOCATION:Oceanside Night Market\, 401 Pier View Way\, Oceanside\, CA\, 92054\, United States
ATTACH;FMTTYPE=image/jpeg:https://famouspudn.com/wp-content/uploads/2024/09/Blog-Cover-8.jpg
END:VEVENT
END:VCALENDAR