BEGIN:VCALENDAR
VERSION:2.0
PRODID:-//Famous Pudn | Kettle Cooked Gluten-Free Pudding Cafe in Murrieta, CA - ECPv6.15.13//NONSGML v1.0//EN
CALSCALE:GREGORIAN
METHOD:PUBLISH
X-WR-CALNAME:Famous Pudn | Kettle Cooked Gluten-Free Pudding Cafe in Murrieta, CA
X-ORIGINAL-URL:https://famouspudn.com
X-WR-CALDESC:Events for Famous Pudn | Kettle Cooked Gluten-Free Pudding Cafe in Murrieta, CA
REFRESH-INTERVAL;VALUE=DURATION:PT1H
X-Robots-Tag:noindex
X-PUBLISHED-TTL:PT1H
BEGIN:VTIMEZONE
TZID:UTC
BEGIN:STANDARD
TZOFFSETFROM:+0000
TZOFFSETTO:+0000
TZNAME:UTC
DTSTART:20220101T000000
END:STANDARD
END:VTIMEZONE
BEGIN:VEVENT
DTSTART;TZID=UTC:20240106T080000
DTEND;TZID=UTC:20240106T123000
DTSTAMP:20260424T131356
CREATED:20240105T210554Z
LAST-MODIFIED:20240105T210614Z
UID:2421-1704528000-1704544200@famouspudn.com
SUMMARY:Temecula Farmer's Market Saturday 1/6
DESCRIPTION:Every Saturday morning 70-80 farmers and vendors gather in historic Old Town Temecula to offer a wide variety of farm fresh\, organic and conventional; fruits and vegetables. We feature many unusual plants and flowers. We have many complimentary items including\, bakeries\, olives\, olive oils\, cheeses\, kettle corn\, tamales\, hand made soaps and lotions. Natural pet foods are available. A small group of local artists have available some of their works.
URL:https://famouspudn.com/event/temecula-farmers-market-1-6/
LOCATION:CA
ATTACH;FMTTYPE=image/jpeg:https://famouspudn.com/wp-content/uploads/2022/09/4.jpg
END:VEVENT
BEGIN:VEVENT
DTSTART;TZID=UTC:20240105T080000
DTEND;TZID=UTC:20240105T170000
DTSTAMP:20260424T131356
CREATED:20240105T211538Z
LAST-MODIFIED:20240105T211538Z
UID:2439-1704441600-1704474000@famouspudn.com
SUMMARY:Temecula Farmer's Market Saturday 3/2
DESCRIPTION:Every Saturday morning 70-80 farmers and vendors gather in historic Old Town Temecula to offer a wide variety of farm fresh\, organic and conventional; fruits and vegetables. We feature many unusual plants and flowers. We have many complimentary items including\, bakeries\, olives\, olive oils\, cheeses\, kettle corn\, tamales\, hand made soaps and lotions. Natural pet foods are available. A small group of local artists have available some of their works.
URL:https://famouspudn.com/event/temecula-farmers-market-saturday-3-2/
LOCATION:CA
ATTACH;FMTTYPE=image/jpeg:https://famouspudn.com/wp-content/uploads/2022/09/4.jpg
END:VEVENT
BEGIN:VEVENT
DTSTART;TZID=UTC:20240104T170000
DTEND;TZID=UTC:20240104T210000
DTSTAMP:20260424T131356
CREATED:20240105T214032Z
LAST-MODIFIED:20240105T214119Z
UID:2452-1704387600-1704402000@famouspudn.com
SUMMARY:Murrieta Night Market 1/4
DESCRIPTION:Murrieta Market Nights \nNon Profit Night! Come out and learn about local organizations in our community!\nPLUS: Petting Zoo\, Music\, Art & Lots of Smiles 🙂 \nWashinton Ave in Downtown Murrieta \n 
URL:https://famouspudn.com/event/murrieta-night-market-1-4/
LOCATION:CA
ATTACH;FMTTYPE=image/jpeg:https://famouspudn.com/wp-content/uploads/2023/09/Murrieta-Night-Markets.jpeg
END:VEVENT
BEGIN:VEVENT
DTSTART;TZID=UTC:20231025T170000
DTEND;TZID=UTC:20231025T210000
DTSTAMP:20260424T131356
CREATED:20231006T172517Z
LAST-MODIFIED:20231006T172526Z
UID:2417-1698253200-1698267600@famouspudn.com
SUMMARY:Temecula Sunset Market 10/25
DESCRIPTION:Event Details \n\n\nCheck out the new Temecula Sunset Market taking place the 2nd & 4th Wednesday of the month from 5:00-9:00pm. You can browse handcrafted\, artisan and vintage vendors\, grab a bite to eat or sweet treat from the gourmet food court\, and enjoy live\, local music. The vendors will be setup along Main St. from Mercedes to Old Town Front St.
URL:https://famouspudn.com/event/temecula-sunset-market-10-23/
LOCATION:CA
ATTACH;FMTTYPE=image/jpeg:https://famouspudn.com/wp-content/uploads/2023/08/Temecula-Sunset.jpeg
END:VEVENT
BEGIN:VEVENT
DTSTART;TZID=UTC:20231020T170000
DTEND;TZID=UTC:20231020T210000
DTSTAMP:20260424T131356
CREATED:20231006T172046Z
LAST-MODIFIED:20231006T172202Z
UID:2414-1697821200-1697835600@famouspudn.com
SUMMARY:Menifee Trading Post 10/20
DESCRIPTION:30141 Antelope Rd.\, Menifee 92584. Located behind Living Spaces \n\n\n\, DJ\, photo ops\, beer garden\, and enjoy holiday themed culinary delights. \n\n\nFeaturing: \n\n\n🛍️ Shop from over 60 vendors \n\n\n🍺 Beer Garden \n\n\n🎁 Handmade Products \n\n\n👗 Curated Boutiques \n\n\n🌜 Photo Ops \n\n\n🎤 Live Music \n\n\n🍕 Food & Desserts \n\n\nJoin us on the third Friday Night of EVERY MONTH for a specular night celebrating culture\, art\, and community. \n\n\nFor more information please visit: www.MadeLocalMarket.org
URL:https://famouspudn.com/event/menifee-trading-post-10-20/
LOCATION:CA
ATTACH;FMTTYPE=image/png:https://famouspudn.com/wp-content/uploads/2023/10/Menifee-Trading-Post.png
END:VEVENT
BEGIN:VEVENT
DTSTART;TZID=UTC:20231019T170000
DTEND;TZID=UTC:20231019T210000
DTSTAMP:20260424T131356
CREATED:20231006T171828Z
LAST-MODIFIED:20231006T171828Z
UID:2412-1697734800-1697749200@famouspudn.com
SUMMARY:Murrieta Night Market 10/19
DESCRIPTION:Murrieta Market Nights \nNon Profit Night! Come out and learn about local organizations in our community!\nPLUS: Petting Zoo\, Music\, Art & Lots of Smiles 🙂
URL:https://famouspudn.com/event/murrieta-night-market-10-19/
LOCATION:CA
ATTACH;FMTTYPE=image/jpeg:https://famouspudn.com/wp-content/uploads/2023/09/Murrieta-Night-Markets.jpeg
END:VEVENT
BEGIN:VEVENT
DTSTART;TZID=UTC:20231014T140000
DTEND;TZID=UTC:20231015T220000
DTSTAMP:20260424T131356
CREATED:20231006T171640Z
LAST-MODIFIED:20231006T171712Z
UID:2408-1697292000-1697407200@famouspudn.com
SUMMARY:Yum Yum Food Festival 10/14-10/15
DESCRIPTION:The Shops at Palm Desert\nCA\, Palm Desert\, CA \nSat 2pm-10pm \nSun 12pm-8pm
URL:https://famouspudn.com/event/yum-yum-food-festival-10-14-10-15/
LOCATION:CA
ATTACH;FMTTYPE=image/jpeg:https://famouspudn.com/wp-content/uploads/2023/10/Yum-Yum.jpeg
END:VEVENT
BEGIN:VEVENT
DTSTART;TZID=UTC:20231013T170000
DTEND;TZID=UTC:20231013T210000
DTSTAMP:20260424T131356
CREATED:20231006T170650Z
LAST-MODIFIED:20231006T170650Z
UID:2402-1697216400-1697230800@famouspudn.com
SUMMARY:Lakeside Night Market 10/13
DESCRIPTION:The Shop at Dos Lagos \n\n\n2780 Cabot Drive\, Corona\, Ca 92883
URL:https://famouspudn.com/event/lakeside-night-market-10-13/
LOCATION:CA
ATTACH;FMTTYPE=image/webp:https://famouspudn.com/wp-content/uploads/2023/10/Lakeside.webp
END:VEVENT
BEGIN:VEVENT
DTSTART;TZID=UTC:20231013T040000
DTEND;TZID=UTC:20231014T200000
DTSTAMP:20260424T131356
CREATED:20231006T165712Z
LAST-MODIFIED:20231006T170913Z
UID:2399-1697169600-1697313600@famouspudn.com
SUMMARY:Murrieta Rod Run 10/13-10/14
DESCRIPTION:Murrieta Rod Run\nOver the past 10 years The Drifters Car club has been the driving “Host” force of this beloved charitable car show. The Drifters provide Planning and Logistics\, Leadership and “Day of” execution to a single recipient charity\, Murrieta’s “Oak Grove Center”. This two-day participant event takes a year of planning where the Drifters membership are behind the scenes preparing to put on the Best Classic Car Show possible. No Drifter is EVER paid for their services. All event tasks are performed within the membership Volunteerism\, and we donate all the proceeds of Show revenue to Oak Grove Center. The Murrieta Rod Run will generate over $60K of net proceeds for Oak Grove Center for their work with children. \n  \nHISTORIC DOWN TOWN MURRIETA\n\nOctober 13th 4pm-8pm \nOctober 14th 9am-3:30pm \n24630 Washington Avenue\, Murrieta\, California 92562\, United States
URL:https://famouspudn.com/event/murrieta-rod-run-10-13/
LOCATION:CA
ATTACH;FMTTYPE=image/webp:https://famouspudn.com/wp-content/uploads/2023/10/Rod-Run_1080x.jpg.webp
END:VEVENT
BEGIN:VEVENT
DTSTART;TZID=UTC:20231011T170000
DTEND;TZID=UTC:20231011T210000
DTSTAMP:20260424T131356
CREATED:20231006T165011Z
LAST-MODIFIED:20231006T165011Z
UID:2397-1697043600-1697058000@famouspudn.com
SUMMARY:Temecula Sunset Market 10/11
DESCRIPTION:Check out the new Temecula Sunset Market taking place the 2nd & 4th Wednesday of the month from 5:00-9:00pm. You can browse handcrafted\, artisan and vintage vendors\, grab a bite to eat or sweet treat from the gourmet food court\, and enjoy live\, local music. The vendors will be setup along Main St. from Mercedes to Old Town Front St.
URL:https://famouspudn.com/event/temecula-sunset-market-10-11/
LOCATION:CA
ATTACH;FMTTYPE=image/jpeg:https://famouspudn.com/wp-content/uploads/2023/08/Temecula-Sunset.jpeg
END:VEVENT
BEGIN:VEVENT
DTSTART;TZID=UTC:20231006T170000
DTEND;TZID=UTC:20231006T210000
DTSTAMP:20260424T131356
CREATED:20231006T164744Z
LAST-MODIFIED:20231006T164808Z
UID:2394-1696611600-1696626000@famouspudn.com
SUMMARY:Menifee Foodie Friday 10/6
DESCRIPTION:This will take place at Mt. San Jacinto College’s Menifee Campus (28237 La Piedra Rd) from 5 p.m. to 9 p.m. the first Friday of each month April through October.
URL:https://famouspudn.com/event/ifee-foodie-friday-10-6/
LOCATION:CA
ATTACH;FMTTYPE=image/jpeg:https://famouspudn.com/wp-content/uploads/2023/08/Foodie-Friday.jpeg
END:VEVENT
BEGIN:VEVENT
DTSTART;TZID=UTC:20231005T170000
DTEND;TZID=UTC:20231005T210000
DTSTAMP:20260424T131356
CREATED:20231006T164451Z
LAST-MODIFIED:20231006T164451Z
UID:2392-1696525200-1696539600@famouspudn.com
SUMMARY:Murrieta Night Market 10/5
DESCRIPTION:Murrieta Market Nights \nNon Profit Night! Come out and learn about local organizations in our community!\nPLUS: Petting Zoo\, Music\, Art & Lots of Smiles 🙂 \n \nWashinnton Ave
URL:https://famouspudn.com/event/murrieta-night-market-10-5/
LOCATION:CA
ATTACH;FMTTYPE=image/jpeg:https://famouspudn.com/wp-content/uploads/2023/09/Murrieta-Night-Markets.jpeg
END:VEVENT
BEGIN:VEVENT
DTSTART;TZID=UTC:20230930T120000
DTEND;TZID=UTC:20231001T220000
DTSTAMP:20260424T131356
CREATED:20230908T013520Z
LAST-MODIFIED:20230908T013520Z
UID:2388-1696075200-1696197600@famouspudn.com
SUMMARY:Mid Autumn Festival 9/30 - 10/1
DESCRIPTION:Mount Sac College\, Walnut\, Ca
URL:https://famouspudn.com/event/mid-autumn-festival-9-30-10-1/
LOCATION:CA
END:VEVENT
BEGIN:VEVENT
DTSTART;TZID=UTC:20230930T080000
DTEND;TZID=UTC:20230930T120000
DTSTAMP:20260424T131356
CREATED:20230908T010035Z
LAST-MODIFIED:20230908T010035Z
UID:2361-1696060800-1696075200@famouspudn.com
SUMMARY:Temecula Farmer's Market 9/30
DESCRIPTION:Every Saturday morning 70-80 farmers and vendors gather in historic Old Town Temecula to offer a wide variety of farm fresh\, organic and conventional; fruits and vegetables. We feature many unusual plants and flowers. We have many complimentary items including\, bakeries\, olives\, olive oils\, cheeses\, kettle corn\, tamales\, hand made soaps and lotions. Natural pet foods are available. A small group of local artists have available some of their works.
URL:https://famouspudn.com/event/temecula-farmers-market-9-30/
LOCATION:CA
ATTACH;FMTTYPE=image/jpeg:https://famouspudn.com/wp-content/uploads/2022/09/4.jpg
END:VEVENT
BEGIN:VEVENT
DTSTART;TZID=UTC:20230927T170000
DTEND;TZID=UTC:20230927T210000
DTSTAMP:20260424T131356
CREATED:20230908T013347Z
LAST-MODIFIED:20230908T013347Z
UID:2386-1695834000-1695848400@famouspudn.com
SUMMARY:Temecula Sunset Market 9/27
DESCRIPTION:Event Details \nCheck out the new Temecula Sunset Market taking place the 2nd & 4th Wednesday of the month from 5:00-9:00pm. You can browse handcrafted\, artisan and vintage vendors\, grab a bite to eat or sweet treat from the gourmet food court\, and enjoy live\, local music. The vendors will be setup along Main St. from Mercedes to Old Town Front St.
URL:https://famouspudn.com/event/temecula-sunset-market-9-27/
LOCATION:CA
ATTACH;FMTTYPE=image/jpeg:https://famouspudn.com/wp-content/uploads/2023/08/Temecula-Sunset.jpeg
END:VEVENT
BEGIN:VEVENT
DTSTART;TZID=UTC:20230923T080000
DTEND;TZID=UTC:20230923T120000
DTSTAMP:20260424T131356
CREATED:20230908T005939Z
LAST-MODIFIED:20230908T005939Z
UID:2359-1695456000-1695470400@famouspudn.com
SUMMARY:Temecula Farmer's Market 9/23
DESCRIPTION:Every Saturday morning 70-80 farmers and vendors gather in historic Old Town Temecula to offer a wide variety of farm fresh\, organic and conventional; fruits and vegetables. We feature many unusual plants and flowers. We have many complimentary items including\, bakeries\, olives\, olive oils\, cheeses\, kettle corn\, tamales\, hand made soaps and lotions. Natural pet foods are available. A small group of local artists have available some of their works.
URL:https://famouspudn.com/event/temecula-farmers-market-9-23/
LOCATION:CA
ATTACH;FMTTYPE=image/jpeg:https://famouspudn.com/wp-content/uploads/2022/09/4.jpg
END:VEVENT
BEGIN:VEVENT
DTSTART;VALUE=DATE:20230922
DTEND;VALUE=DATE:20230925
DTSTAMP:20260424T131356
CREATED:20221206T165545Z
LAST-MODIFIED:20231009T061806Z
UID:1102-1695340800-1695599999@famouspudn.com
SUMMARY:Foodieland Del Mar Sept 22-24
DESCRIPTION:FoodieLand is a three-day outdoor multicultural food festival for foodies! Featuring over 170+ vendors in attendance
URL:https://famouspudn.com/event/foodieland-del-mar-2/
LOCATION:Del Mar Fair Grounds\, 2260 Jimmy Durante Blvd\, Del Mar\, CA 92014
ATTACH;FMTTYPE=image/png:https://famouspudn.com/wp-content/uploads/2022/12/Foodieland.png
END:VEVENT
BEGIN:VEVENT
DTSTART;TZID=UTC:20230921T170000
DTEND;TZID=UTC:20230921T210000
DTSTAMP:20260424T131356
CREATED:20230908T012619Z
LAST-MODIFIED:20230908T012619Z
UID:2384-1695315600-1695330000@famouspudn.com
SUMMARY:Murrieta Night Market 9/21
DESCRIPTION:Murrieta Market Nights \nNon Profit Night! Come out and learn about local organizations in our community!\nPLUS: Petting Zoo\, Music\, Art & Lots of Smiles 🙂\nArt @ The Alleyway music by: Hobohemia
URL:https://famouspudn.com/event/murrieta-night-market-9-21/
LOCATION:CA
ATTACH;FMTTYPE=image/jpeg:https://famouspudn.com/wp-content/uploads/2023/09/Murrieta-Night-Markets.jpeg
END:VEVENT
BEGIN:VEVENT
DTSTART;TZID=UTC:20230920T173000
DTEND;TZID=UTC:20230920T190000
DTSTAMP:20260424T131356
CREATED:20230908T012442Z
LAST-MODIFIED:20230908T012442Z
UID:2382-1695231000-1695236400@famouspudn.com
SUMMARY:Temecula Valley Chamber Mixer 9/20
DESCRIPTION:
URL:https://famouspudn.com/event/temecula-valley-chamber-mixer-9-20/
LOCATION:CA
END:VEVENT
BEGIN:VEVENT
DTSTART;TZID=UTC:20230917T100000
DTEND;TZID=UTC:20230917T160000
DTSTAMP:20260424T131356
CREATED:20230908T011948Z
LAST-MODIFIED:20230908T012310Z
UID:2376-1694944800-1694966400@famouspudn.com
SUMMARY:Taste of Europa 9/17
DESCRIPTION:Event Details\nSip\, Sip\, Hooray! We are thrilled to officially announce the return of The Great Taste of Europa Wine & Food Festival on Sunday\, September 17\, 2023! \nGet your tastebuds ready because we’re coming back bigger and better than last year. Join us in exploring the sights and wonders of our European wineries & resort with more wine\, more local craft brews\, more spirits\, more gourmet food\, and some of the best live entertainment. \n\n\n\n\nDate:\nSunday\, September 17th\, 2023\n11 am – 4 pm \nDoors Open:\n11 am \nAge:\n21+ \nLocation:\nEuropa Village Wineries & Resort\n41150 Via Europa\nTemecula\, CA 92591\nGet Directions
URL:https://famouspudn.com/event/taste-of-europa-9-17/
LOCATION:CA
ATTACH;FMTTYPE=image/png:https://famouspudn.com/wp-content/uploads/2023/09/Taste-of-Europa.png
END:VEVENT
BEGIN:VEVENT
DTSTART;TZID=UTC:20230916T080000
DTEND;TZID=UTC:20230916T120000
DTSTAMP:20260424T131356
CREATED:20230908T005843Z
LAST-MODIFIED:20230908T005843Z
UID:2357-1694851200-1694865600@famouspudn.com
SUMMARY:Temecula Farmer's Market 9/16
DESCRIPTION:Every Saturday morning 70-80 farmers and vendors gather in historic Old Town Temecula to offer a wide variety of farm fresh\, organic and conventional; fruits and vegetables. We feature many unusual plants and flowers. We have many complimentary items including\, bakeries\, olives\, olive oils\, cheeses\, kettle corn\, tamales\, hand made soaps and lotions. Natural pet foods are available. A small group of local artists have available some of their works.
URL:https://famouspudn.com/event/temecula-farmers-market-9-16/
LOCATION:CA
ATTACH;FMTTYPE=image/jpeg:https://famouspudn.com/wp-content/uploads/2022/09/4.jpg
END:VEVENT
BEGIN:VEVENT
DTSTART;TZID=UTC:20230913T170000
DTEND;TZID=UTC:20230913T210000
DTSTAMP:20260424T131356
CREATED:20230908T011511Z
LAST-MODIFIED:20230908T011618Z
UID:2370-1694624400-1694638800@famouspudn.com
SUMMARY:Temecula Sunset Market 9/13
DESCRIPTION:Event Details \nCheck out the new Temecula Sunset Market taking place the 2nd & 4th Wednesday of the month from 5:00-9:00pm. You can browse handcrafted\, artisan and vintage vendors\, grab a bite to eat or sweet treat from the gourmet food court\, and enjoy live\, local music. The vendors will be setup along Main St. from Mercedes to Old Town Front St.
URL:https://famouspudn.com/event/temecula-sunset-market-9-13/
LOCATION:CA
ATTACH;FMTTYPE=image/jpeg:https://famouspudn.com/wp-content/uploads/2023/08/Temecula-Sunset.jpeg
END:VEVENT
BEGIN:VEVENT
DTSTART;TZID=UTC:20230909T080000
DTEND;TZID=UTC:20230909T120000
DTSTAMP:20260424T131356
CREATED:20230908T005759Z
LAST-MODIFIED:20230908T005759Z
UID:2355-1694246400-1694260800@famouspudn.com
SUMMARY:Temecula Farmer's Market 9/9
DESCRIPTION:Every Saturday morning 70-80 farmers and vendors gather in historic Old Town Temecula to offer a wide variety of farm fresh\, organic and conventional; fruits and vegetables. We feature many unusual plants and flowers. We have many complimentary items including\, bakeries\, olives\, olive oils\, cheeses\, kettle corn\, tamales\, hand made soaps and lotions. Natural pet foods are available. A small group of local artists have available some of their works.
URL:https://famouspudn.com/event/temecula-farmers-market-9-9/
LOCATION:CA
ATTACH;FMTTYPE=image/jpeg:https://famouspudn.com/wp-content/uploads/2022/09/4.jpg
END:VEVENT
BEGIN:VEVENT
DTSTART;TZID=UTC:20230908T080000
DTEND;TZID=UTC:20230908T170000
DTSTAMP:20260424T131356
CREATED:20230908T011815Z
LAST-MODIFIED:20230908T011900Z
UID:2373-1694160000-1694192400@famouspudn.com
SUMMARY:Menifee Trading Post 9/16
DESCRIPTION:30141 Antelope Rd.\, Menifee 92584. Located behind Living Spaces \n\, DJ\, photo ops\, beer garden\, and enjoy holiday themed culinary delights. \nFeaturing: \n🛍️ Shop from over 60 vendors \n🍺 Beer Garden \n🎁 Handmade Products \n👗 Curated Boutiques \n🌜 Photo Ops \n🎤 Live Music \n🍕 Food & Desserts \nJoin us on the third Friday Night of EVERY MONTH for a specular night celebrating culture\, art\, and community. \nFor more information please visit: www.MadeLocalMarket.org \n\n\n\n\n\n\n\n\n\nShow map
URL:https://famouspudn.com/event/menifee-trading-post-9-16/
LOCATION:CA
ATTACH;FMTTYPE=image/png:https://famouspudn.com/wp-content/uploads/2022/10/Screen-Shot-2022-10-27-at-10.34.56-AM.png
END:VEVENT
BEGIN:VEVENT
DTSTART;TZID=UTC:20230907T170000
DTEND;TZID=UTC:20230907T210000
DTSTAMP:20260424T131356
CREATED:20230908T010129Z
LAST-MODIFIED:20230908T011128Z
UID:2363-1694106000-1694120400@famouspudn.com
SUMMARY:Murrieta Night Market 9/7
DESCRIPTION:Murrieta Market Nights \nNon Profit Night! Come out and learn about local organizations in our community!\nPLUS: Petting Zoo\, Music\, Art & Lots of Smiles 🙂\nArt @ The Alleyway music by: Hobohemia
URL:https://famouspudn.com/event/murrita-night-market-9-7/
LOCATION:CA
ATTACH;FMTTYPE=image/jpeg:https://famouspudn.com/wp-content/uploads/2023/09/Murrieta-Night-Markets.jpeg
END:VEVENT
BEGIN:VEVENT
DTSTART;TZID=UTC:20230902T080000
DTEND;TZID=UTC:20230902T120000
DTSTAMP:20260424T131356
CREATED:20230908T005623Z
LAST-MODIFIED:20230908T005709Z
UID:2352-1693641600-1693656000@famouspudn.com
SUMMARY:Temecula Farmer's Market 9/2
DESCRIPTION:Every Saturday morning 70-80 farmers and vendors gather in historic Old Town Temecula to offer a wide variety of farm fresh\, organic and conventional; fruits and vegetables. We feature many unusual plants and flowers. We have many complimentary items including\, bakeries\, olives\, olive oils\, cheeses\, kettle corn\, tamales\, hand made soaps and lotions. Natural pet foods are available. A small group of local artists have available some of their works.
URL:https://famouspudn.com/event/temecula-farmers-market-9-2/
LOCATION:CA
ATTACH;FMTTYPE=image/jpeg:https://famouspudn.com/wp-content/uploads/2022/09/4.jpg
END:VEVENT
BEGIN:VEVENT
DTSTART;TZID=UTC:20230901T160000
DTEND;TZID=UTC:20230903T000000
DTSTAMP:20260424T131356
CREATED:20230908T005428Z
LAST-MODIFIED:20230908T005428Z
UID:2350-1693584000-1693699200@famouspudn.com
SUMMARY:626 Night Market - Arcadia 9/1-9/3
DESCRIPTION:
URL:https://famouspudn.com/event/626-night-market-arcadia-9-1-9-3/
LOCATION:CA
END:VEVENT
BEGIN:VEVENT
DTSTART;TZID=UTC:20230827T120000
DTEND;TZID=UTC:20230827T150000
DTSTAMP:20260424T131356
CREATED:20230810T220142Z
LAST-MODIFIED:20230810T220142Z
UID:2346-1693137600-1693148400@famouspudn.com
SUMMARY:Famous PUDN 2 Year Anniversary Celebration!!!! 8/27
DESCRIPTION:Please join us!!! We will have games\, food\, drinks and most importantly PUDN!!\n24520 Village Walk\, Murrieta\, CA
URL:https://famouspudn.com/event/famous-pudn-2-year-anniversary-celebration-8-27/
LOCATION:CA
ATTACH;FMTTYPE=image/jpeg:https://famouspudn.com/wp-content/uploads/2023/08/PHOTO-20224-2.jpg
END:VEVENT
BEGIN:VEVENT
DTSTART;TZID=UTC:20230826T080000
DTEND;TZID=UTC:20230826T120000
DTSTAMP:20260424T131356
CREATED:20230810T215230Z
LAST-MODIFIED:20230810T215230Z
UID:2344-1693036800-1693051200@famouspudn.com
SUMMARY:Temecula Farmer's Market 8/26
DESCRIPTION:Every Saturday morning 70-80 farmers and vendors gather in historic Old Town Temecula to offer a wide variety of farm fresh\, organic and conventional; fruits and vegetables. We feature many unusual plants and flowers. We have many complimentary items including\, bakeries\, olives\, olive oils\, cheeses\, kettle corn\, tamales\, hand made soaps and lotions. Natural pet foods are available. A small group of local artists have available some of their works.
URL:https://famouspudn.com/event/temecula-farmers-market-8-26/
LOCATION:CA
ATTACH;FMTTYPE=image/jpeg:https://famouspudn.com/wp-content/uploads/2022/09/4.jpg
END:VEVENT
BEGIN:VEVENT
DTSTART;TZID=UTC:20230823T050000
DTEND;TZID=UTC:20230823T210000
DTSTAMP:20260424T131356
CREATED:20230810T214809Z
LAST-MODIFIED:20230810T214809Z
UID:2342-1692766800-1692824400@famouspudn.com
SUMMARY:Temecula Sunset Market in Old Town Temecula 8/23
DESCRIPTION:Event Details \nCheck out the new Temecula Sunset Market taking place the 2nd & 4th Wednesday of the month from 5:00-9:00pm. You can browse handcrafted\, artisan and vintage vendors\, grab a bite to eat or sweet treat from the gourmet food court\, and enjoy live\, local music. The vendors will be setup along Main St. from Mercedes to Old Town Front St.
URL:https://famouspudn.com/event/temecula-sunset-market-in-old-town-temecula-8-23/
LOCATION:CA
ATTACH;FMTTYPE=image/jpeg:https://famouspudn.com/wp-content/uploads/2023/08/Temecula-Sunset.jpeg
END:VEVENT
END:VCALENDAR