BEGIN:VCALENDAR
VERSION:2.0
PRODID:-//Famous Pudn | Kettle Cooked Gluten-Free Pudding Cafe in Murrieta, CA - ECPv6.15.13//NONSGML v1.0//EN
CALSCALE:GREGORIAN
METHOD:PUBLISH
X-WR-CALNAME:Famous Pudn | Kettle Cooked Gluten-Free Pudding Cafe in Murrieta, CA
X-ORIGINAL-URL:https://famouspudn.com
X-WR-CALDESC:Events for Famous Pudn | Kettle Cooked Gluten-Free Pudding Cafe in Murrieta, CA
REFRESH-INTERVAL;VALUE=DURATION:PT1H
X-Robots-Tag:noindex
X-PUBLISHED-TTL:PT1H
BEGIN:VTIMEZONE
TZID:UTC
BEGIN:STANDARD
TZOFFSETFROM:+0000
TZOFFSETTO:+0000
TZNAME:UTC
DTSTART:20230101T000000
END:STANDARD
END:VTIMEZONE
BEGIN:VEVENT
DTSTART;TZID=UTC:20240915T120000
DTEND;TZID=UTC:20240915T220000
DTSTAMP:20260424T074031
CREATED:20240905T194341Z
LAST-MODIFIED:20240905T194341Z
UID:2558-1726401600-1726437600@famouspudn.com
SUMMARY:Fall Into Reggae Fest - Sunday\, September 15th
DESCRIPTION:Teaming up with OG Juice Jams to bring you a day filled with reggae music\, 30+ vendors\, live art\, wine\, craft cocktails\, wine slushies and more! \nFALL IN TO REGGEA FEST!\nTime: Sunday\, Sep 15th 12-10pm \nLocation:  Mount Palomar Winery\, 33820 Rancho California Road\, Temecula\, CA 92591 United States
URL:https://famouspudn.com/event/fall-into-reggae-fest-sunday-september-15th-2/
LOCATION:Mount Palomar Winery\, 33820 Rancho California Rd\, Temecula\, CA\, 92591\, United States
END:VEVENT
BEGIN:VEVENT
DTSTART;TZID=UTC:20240915T110000
DTEND;TZID=UTC:20240915T160000
DTSTAMP:20260424T074031
CREATED:20240905T172044Z
LAST-MODIFIED:20240905T194241Z
UID:2555-1726398000-1726416000@famouspudn.com
SUMMARY:The Great Taste of Europa Wine & Food Festival - Sunday\, September 15th
DESCRIPTION:Ready to elevate your tasting experience? Join us at The Great Taste of Europa Wine & Food Festival for an unforgettable journey through the heart of European gastronomy. From the vineyards of Italy to the shores of Greece\, immerse yourself in a world of flavor where every sip and bite tells a story. With over 50 exquisite European wines\, a dedicated beer and spirits garden\, and the opportunity to support local culinary talent\, this is not just a festival—it’s a celebration of culture\, community\, and the finer things in life. \nTreat yourself to an indulgent adventure that will tantalize your senses and leave you craving more.
URL:https://famouspudn.com/event/the-great-taste-of-europa-wine-food-festival-sunday-september-15th/
LOCATION:Europa Winery\, 41150 Via Europa\, Temecula\, CA\, 92591\, United States
ATTACH;FMTTYPE=image/jpeg:https://famouspudn.com/wp-content/uploads/2024/09/download-1.jpg
END:VEVENT
BEGIN:VEVENT
DTSTART;TZID=UTC:20240914T143000
DTEND;TZID=UTC:20240914T230000
DTSTAMP:20260424T074031
CREATED:20240905T165924Z
LAST-MODIFIED:20240905T165924Z
UID:2552-1726324200-1726354800@famouspudn.com
SUMMARY:8th Annual Rosemead Moon Festival - Saturday\, September 14th
DESCRIPTION:The City of Rosemead and VOCO Media\, is hosting the 8th Annual Moon Festival on Saturday\, September 14\, 2024\, from 2:30 p.m. to 11:00 p.m. The festival will take place on Valley Boulevard\, between Walnut Grove and Ivar Avenue. This traditional Chinese mid-Autumn festival is meant to unite families and symbolizes peace and prosperity. Come celebrate this “day of reunion\,” which features cultural performances\, tasty food\, a variety of merchandise vendors\, and activities for the entire family. The community is invited to attend free of charge!
URL:https://famouspudn.com/event/8th-annual-rosemead-moon-festival-saturday-september-14th/
LOCATION:CA
ATTACH;FMTTYPE=image/png:https://famouspudn.com/wp-content/uploads/2024/09/NEWS-Moon-Festival.png
END:VEVENT
BEGIN:VEVENT
DTSTART;TZID=UTC:20240914T110000
DTEND;TZID=UTC:20240914T160000
DTSTAMP:20260424T074031
CREATED:20240905T165647Z
LAST-MODIFIED:20240905T194043Z
UID:2549-1726311600-1726329600@famouspudn.com
SUMMARY:Pechanga's 2nd Annual Tacos & Tequila Festival - Saturday\, September 14th
DESCRIPTION:Indulge in a variety of gourmet tacos crafted by Pechanga’s chefs and sip on some of the best names in tequila and mezcal. \n 
URL:https://famouspudn.com/event/pechangas-2nd-annual-tacos-tequila-festival-saturday-september-14th/
LOCATION:Pechanga\, 45000 Pechanga Pkwy\, Temecula\, CA\, 92592\, United States
ATTACH;FMTTYPE=image/jpeg:https://famouspudn.com/wp-content/uploads/2024/09/download.jpg
END:VEVENT
BEGIN:VEVENT
DTSTART;TZID=UTC:20240914T080000
DTEND;TZID=UTC:20240914T123000
DTSTAMP:20260424T074031
CREATED:20240905T164741Z
LAST-MODIFIED:20240905T193933Z
UID:2547-1726300800-1726317000@famouspudn.com
SUMMARY:Temecula Farmers Market - Saturday\, September 14th
DESCRIPTION:Every Saturday morning 70-80 farmers and vendors gather in historic Old Town Temecula to offer a wide variety of farm fresh\, organic and conventional; fruits and vegetables. We feature many unusual plants and flowers. We have many complimentary items including\, bakeries\, olives\, olive oils\, cheeses\, kettle corn\, tamales\, hand made soaps and lotions. Natural pet foods are available. A small group of local artists have available some of their works.
URL:https://famouspudn.com/event/temecula-farmers-market-saturday-september-14th/
LOCATION:Temecula Farmers Market\, Sixth & Front St.\, Temecula\, 92590\, United States
ATTACH;FMTTYPE=image/jpeg:https://famouspudn.com/wp-content/uploads/2022/09/4.jpg
END:VEVENT
BEGIN:VEVENT
DTSTART;TZID=UTC:20240913T170000
DTEND;TZID=UTC:20240913T210000
DTSTAMP:20260424T074031
CREATED:20240905T164123Z
LAST-MODIFIED:20240905T193906Z
UID:2542-1726246800-1726261200@famouspudn.com
SUMMARY:Lakeside Night Market - Friday\, September 13th
DESCRIPTION:Join us every second Friday of the month for an enchanting evening of shopping by the lake\, illuminated by twinkling stars above. Explore local vendors offering unique finds\, groove to live music\, sip on refreshing drinks in the Beer Garden\, indulge in delicious street foods and desserts\, savor tasty kettle corn\, sample raw local honey\, and spice things up with fresh salsa. This lively event is perfect for the whole family\, including your furry friends! Best of all\, admission is free and parking is on the house. Let’s make memories and celebrate our community together!
URL:https://famouspudn.com/event/lakeside-night-market-friday-september-13th/
LOCATION:Lakeside Night Market\, 2780 Cabot Dr.\, Corona\, CA\, 92883\, United States
ATTACH;FMTTYPE=image/jpeg:https://famouspudn.com/wp-content/uploads/2022/09/5.jpg
END:VEVENT
BEGIN:VEVENT
DTSTART;TZID=UTC:20240913T130000
DTEND;TZID=UTC:20240914T210000
DTSTAMP:20260424T074031
CREATED:20240905T164605Z
LAST-MODIFIED:20240905T193748Z
UID:2544-1726232400-1726347600@famouspudn.com
SUMMARY:Carlsbad Nights - Friday-Saturday\, September 13th-14th
DESCRIPTION:Join us at The Shoppes at Carlsbad Mall for Carlsbad Nights\, an enchanting evening filled with music\, delectable food\, and unique crafts! This family-friendly event offers something for everyone. Explore a variety of local vendors\, enjoy delicious dishes from food trucks\, and let the kids have fun in our dedicated play area. Don’t miss out on this vibrant community gathering – it’s the perfect way to unwind and connect with friends and neighbors! \n📅 When: September 13th 3PM-9PM; September 14th 1PM-9PM\n📍 Where: The Shoppes at Carlsbad Mall Parking Lot (located front of NinjaXchange Collectible Expo)\n🎟️ Admission and Parking: Free
URL:https://famouspudn.com/event/carlsbad-nights-friday-saturday-september-13th-14th/
LOCATION:Carlsbad Nights\, 2561 El Camino Real\, Carlsbad\, CA\, 92008\, United States
ATTACH;FMTTYPE=image/jpeg:https://famouspudn.com/wp-content/uploads/2024/09/https___cdn.evbuc_.com_images_811720719_2243001526613_1_original.jpg
END:VEVENT
BEGIN:VEVENT
DTSTART;TZID=UTC:20240912T170000
DTEND;TZID=UTC:20240912T210000
DTSTAMP:20260424T074031
CREATED:20240904T191919Z
LAST-MODIFIED:20240905T193616Z
UID:2536-1726160400-1726174800@famouspudn.com
SUMMARY:Temecula Sunset Market - Thursday\, September 12th
DESCRIPTION:Check out the new Temecula Sunset Market taking place the 2nd & 4th Thursday of the month from 5:00-9:00pm. You can browse handcrafted\, artisan and vintage vendors\, grab a bite to eat or sweet treat from the gourmet food court\, and enjoy live\, local music. The vendors will be setup along Main St. from Mercedes to Old Town Front St.
URL:https://famouspudn.com/event/temecula-sunset-market-thursday-september-12th/
LOCATION:Temecula Sunset Market\, 41902 Main St\, Temecula\, CA\, 92590\, United States
ATTACH;FMTTYPE=image/jpeg:https://famouspudn.com/wp-content/uploads/2024/08/452828957_1082974296601359_4672705631497353168_n.jpg
END:VEVENT
BEGIN:VEVENT
DTSTART;TZID=UTC:20240907T080000
DTEND;TZID=UTC:20240907T123000
DTSTAMP:20260424T074031
CREATED:20240903T204614Z
LAST-MODIFIED:20240905T193410Z
UID:2534-1725696000-1725712200@famouspudn.com
SUMMARY:Temecula Farmer's Market - Saturday\, September 7th
DESCRIPTION:Every Saturday morning 70-80 farmers and vendors gather in historic Old Town Temecula to offer a wide variety of farm fresh\, organic and conventional; fruits and vegetables. We feature many unusual plants and flowers. We have many complimentary items including\, bakeries\, olives\, olive oils\, cheeses\, kettle corn\, tamales\, hand made soaps and lotions. Natural pet foods are available. A small group of local artists have available some of their works.
URL:https://famouspudn.com/event/temecula-farmers-market-saturday-september-7th/
LOCATION:Temecula Farmers Market\, Sixth & Front St.\, Temecula\, 92590\, United States
ATTACH;FMTTYPE=image/jpeg:https://famouspudn.com/wp-content/uploads/2022/09/4.jpg
END:VEVENT
BEGIN:VEVENT
DTSTART;TZID=UTC:20240906T160000
DTEND;TZID=UTC:20240908T230000
DTSTAMP:20260424T074031
CREATED:20240903T203550Z
LAST-MODIFIED:20240905T193311Z
UID:2531-1725638400-1725836400@famouspudn.com
SUMMARY:626 Night Market Costa Mesa (OC) - Friday-Sunday\, September 6th-8th
DESCRIPTION:626 Night Market is inspired by the famous open-air nighttime bazaars of Asia\, where people come together to eat\, drink\, socialize\, and be entertained. Established in 2012\, the large-scale market is named after the 626 area code region of San Gabriel Valley\, northeast of Los Angeles. The iconic Californian festival features 250+ food\, merchandise\, crafts\, artists\, games\, live concerts\, and entertainment attractions in an epic event that appeals to all ages. 626 Night Market aims to unite and empower the community by serving as a platform for showcasing local talent including performers\, chefs\, and entrepreneurs. \nLocation: 88 Fair Drive\, Costa Mesa\, CA 92626 \nHours: Friday\, Saturday\, Sunday: 4PM-11PM \nAdmission: Presale $5.90. Event days $6.93 (With Eventbrite Fees Included). Season Pass holders can enter the event all three days. Purchase a Season Pass here. Children 3 and under are free. Parking is $12. \n 
URL:https://famouspudn.com/event/626-night-market-costa-mesa-oc-friday-sunday-september-6th-8th/
LOCATION:626 Night Market\, 88 Fair Drive\, Costa Mesa\, CA\, 92626\, United States
ATTACH;FMTTYPE=image/webp:https://famouspudn.com/wp-content/uploads/2024/09/626-nite-market.webp
END:VEVENT
BEGIN:VEVENT
DTSTART;TZID=UTC:20240905T170000
DTEND;TZID=UTC:20240905T210000
DTSTAMP:20260424T074031
CREATED:20240903T203206Z
LAST-MODIFIED:20240905T193213Z
UID:2529-1725555600-1725570000@famouspudn.com
SUMMARY:Murrieta Market Nights - Thursday\, September 5th
DESCRIPTION:Murrieta Market Nights are held on the 1st and 3rd Thursday of each month\, between 5 p.m. – 9 p.m.\, in the heart of Downtown Murrieta. Each event brings hundreds of shoppers to downtown\, with street closures for vendors and entertainment occurring along Washington Avenue and Juniper Street. Visitors enjoy a diverse range of vendors\, music\, food\, and activities. Artisans\, crafters\, local businesses\, musicians\, and artists bring creative energy to the night. An important goal of Murrieta Market Nights is supporting small and local businesses\, as well as participating artists.
URL:https://famouspudn.com/event/murrieta-market-nights-thursday-september-5th/
LOCATION:Murrieta Market\, 24810 Washington Ave\, Murrieta\, CA\, 92562\, United States
ATTACH;FMTTYPE=image/jpeg:https://famouspudn.com/wp-content/uploads/2023/09/Murrieta-Night-Markets.jpeg
END:VEVENT
BEGIN:VEVENT
DTSTART;TZID=UTC:20240905T170000
DTEND;TZID=UTC:20240905T210000
DTSTAMP:20260424T074031
CREATED:20240903T202916Z
LAST-MODIFIED:20240905T193137Z
UID:2526-1725555600-1725570000@famouspudn.com
SUMMARY:Oceanside Sunset Market - Thursday\, September 5th
DESCRIPTION:Featuring up to 200 merchants and spanning four city blocks\, MainStreet Oceanside’s Sunset Market is San Diego County’s top weekly food and music street fair. Every Thursday from 5-9 p.m.\, thousands of residents and visitors alike gather here to enjoy hot food from around the world\, gourmet goodies and desserts\, eclectic shopping and live entertainment. Located on Pier View Way west of Coast Highway in Downtown Oceanside since 2007\, this free\, family-friendly event also features Dorothy’s KidZone with children’s activities. 
URL:https://famouspudn.com/event/oceanside-sunset-market-thursday-september-5th/
LOCATION:Oceanside Night Market\, 401 Pier View Way\, Oceanside\, CA\, 92054\, United States
ATTACH;FMTTYPE=image/jpeg:https://famouspudn.com/wp-content/uploads/2024/09/Blog-Cover-8.jpg
END:VEVENT
BEGIN:VEVENT
DTSTART;TZID=UTC:20240904T190000
DTEND;TZID=UTC:20240904T220000
DTSTAMP:20260424T074031
CREATED:20240904T201612Z
LAST-MODIFIED:20240905T193023Z
UID:2538-1725476400-1725487200@famouspudn.com
SUMMARY:Village Fest in Palm Springs - Thursday\, September 12th
DESCRIPTION:The Thursday night street fair featuring arts\, crafts\, food and entertainment! Looking for things to do in Coachella Valley? We invite you to join thousands of visitors and locals to beautiful downtown Palm Springs this Thursday for the Valley’s finest event.
URL:https://famouspudn.com/event/village-fest-in-palm-springs-thursday-september-12th/
LOCATION:Village Fest\, 401 S Pavilion Way\, Palm Springs\, CA\, 92262
ATTACH;FMTTYPE=image/jpeg:https://famouspudn.com/wp-content/uploads/2024/08/villagefest.jpg
END:VEVENT
BEGIN:VEVENT
DTSTART;TZID=UTC:20240901T140000
DTEND;TZID=UTC:20240901T180000
DTSTAMP:20260424T074031
CREATED:20240821T221501Z
LAST-MODIFIED:20240821T221501Z
UID:2522-1725199200-1725213600@famouspudn.com
SUMMARY:Throwdown in the Vineyard - Sunday\, September 1st
DESCRIPTION:WestCoast Pitmasters & Maurice Car’rie Winery and Vineyard presents the 1st annual BBQ Throwdown competition \, Sunday 9/1/2024. (2-8 pm. ) BBQ competition\, Live Band- John Demps & Full Effect\, Comedians – Kevin Davis/ Mac Rome.& Various Shopping vendors. Join us for a Epic fun filled Labor Day Event while enjoying a variety of wines & Spirits from Maurice Car’rie winery & Vineyard\, Tasty treats from each BBQ team and food vendors.
URL:https://famouspudn.com/event/throwdown-in-the-vineyard-sunday-september-1st/
LOCATION:CA
ATTACH;FMTTYPE=image/jpeg:https://famouspudn.com/wp-content/uploads/2024/08/bbq-pit-masters-pdf.jpg
END:VEVENT
BEGIN:VEVENT
DTSTART;TZID=UTC:20240831T080000
DTEND;TZID=UTC:20240831T123000
DTSTAMP:20260424T074031
CREATED:20240821T220914Z
LAST-MODIFIED:20240821T220914Z
UID:2518-1725091200-1725107400@famouspudn.com
SUMMARY:Temecula Farmer's Market - Saturday\, August 31st
DESCRIPTION:Every Saturday morning 70-80 farmers and vendors gather in historic Old Town Temecula to offer a wide variety of farm fresh\, organic and conventional; fruits and vegetables. We feature many unusual plants and flowers. We have many complimentary items including\, bakeries\, olives\, olive oils\, cheeses\, kettle corn\, tamales\, hand made soaps and lotions. Natural pet foods are available. A small group of local artists have available some of their works.
URL:https://famouspudn.com/event/temecula-farmers-market-saturday-august-31st/
LOCATION:CA
ATTACH;FMTTYPE=image/jpeg:https://famouspudn.com/wp-content/uploads/2022/09/4.jpg
END:VEVENT
BEGIN:VEVENT
DTSTART;VALUE=DATE:20240830
DTEND;VALUE=DATE:20240902
DTSTAMP:20260424T074031
CREATED:20240821T204147Z
LAST-MODIFIED:20240821T220408Z
UID:2497-1724976000-1725235199@famouspudn.com
SUMMARY:Foodieland Night Market in Sacramento - Friday\, Aug 30th - Sunday\, Sept 1st
DESCRIPTION:FoodieLand is a foodie inspired multi-cultural food and entertainment event taking place at Cal Expo. \nWith over 190+ vendors\, we’re bringing you a variety of amazing foods\, arts\, crafts\, games\, and entertainment for the whole family. Hope to see you there! \nTimes: Friday: 3pm-10pm\, Saturday\, 1pm-10pm\, Sunday: 1pm-10pm \nLocation:  \nCal Expo – 1600 Exposition Blvd Sacramento\, CA 95815
URL:https://famouspudn.com/event/foodieland-sacramento-aug-30-sept-1/
LOCATION:CA
ATTACH;FMTTYPE=image/jpeg:https://famouspudn.com/wp-content/uploads/2022/12/Foodieland.jpeg
END:VEVENT
BEGIN:VEVENT
DTSTART;VALUE=DATE:20240829
DTEND;VALUE=DATE:20240830
DTSTAMP:20260424T074031
CREATED:20240821T221056Z
LAST-MODIFIED:20240821T221056Z
UID:2520-1724889600-1724975999@famouspudn.com
SUMMARY:National Banana PUDN Day!
DESCRIPTION:August 29th is National Banana PUDN Day! You know that that means… Visit Famous PUDN for a special deal you don’t want to miss out on!
URL:https://famouspudn.com/event/national-banana-pudn-day/
LOCATION:CA
ATTACH;FMTTYPE=image/jpeg:https://famouspudn.com/wp-content/uploads/2024/08/18-DSC04349-scaled.jpg
END:VEVENT
BEGIN:VEVENT
DTSTART;TZID=UTC:20240824T080000
DTEND;TZID=UTC:20240824T123000
DTSTAMP:20260424T074031
CREATED:20240821T204643Z
LAST-MODIFIED:20240821T220035Z
UID:2499-1724486400-1724502600@famouspudn.com
SUMMARY:Temecula Farmer's Market - Saturday\, August 24th
DESCRIPTION:Every Saturday morning 70-80 farmers and vendors gather in historic Old Town Temecula to offer a wide variety of farm fresh\, organic and conventional; fruits and vegetables. We feature many unusual plants and flowers. We have many complimentary items including\, bakeries\, olives\, olive oils\, cheeses\, kettle corn\, tamales\, hand made soaps and lotions. Natural pet foods are available. A small group of local artists have available some of their works.
URL:https://famouspudn.com/event/temecula-farmers-market-saturday-8-24/
LOCATION:CA
ATTACH;FMTTYPE=image/jpeg:https://famouspudn.com/wp-content/uploads/2022/09/4.jpg
END:VEVENT
BEGIN:VEVENT
DTSTART;TZID=UTC:20240822T190000
DTEND;TZID=UTC:20240822T220000
DTSTAMP:20260424T074031
CREATED:20240821T215913Z
LAST-MODIFIED:20240821T220051Z
UID:2506-1724353200-1724364000@famouspudn.com
SUMMARY:Village Fest in Palm Springs - Thursday\, August 22nd
DESCRIPTION:The Thursday night street fair featuring arts\, crafts\, food and entertainment! Looking for things to do in Coachella Valley? We invite you to join thousands of visitors and locals to beautiful downtown Palm Springs this Thursday for the Valley’s finest event.
URL:https://famouspudn.com/event/village-fest-in-palm-springs-august-22nd/
LOCATION:CA
ATTACH;FMTTYPE=image/jpeg:https://famouspudn.com/wp-content/uploads/2024/08/villagefest.jpg
END:VEVENT
BEGIN:VEVENT
DTSTART;TZID=UTC:20240822T170000
DTEND;TZID=UTC:20240822T210000
DTSTAMP:20260424T074031
CREATED:20240821T215453Z
LAST-MODIFIED:20240821T220103Z
UID:2503-1724346000-1724360400@famouspudn.com
SUMMARY:Temecula Sunset Market - Thursday\, August 22nd
DESCRIPTION:Check out the new Temecula Sunset Market taking place the 2nd & 4th Thursday of the month from 5:00-9:00pm. You can browse handcrafted\, artisan and vintage vendors\, grab a bite to eat or sweet treat from the gourmet food court\, and enjoy live\, local music. The vendors will be setup along Main St. from Mercedes to Old Town Front St.
URL:https://famouspudn.com/event/temecula-sunset-market-august-22nd/
LOCATION:CA
ATTACH;FMTTYPE=image/jpeg:https://famouspudn.com/wp-content/uploads/2024/08/452828957_1082974296601359_4672705631497353168_n.jpg
END:VEVENT
BEGIN:VEVENT
DTSTART;VALUE=DATE:20240503
DTEND;VALUE=DATE:20240506
DTSTAMP:20260424T074031
CREATED:20240105T215450Z
LAST-MODIFIED:20240105T215450Z
UID:2465-1714694400-1714953599@famouspudn.com
SUMMARY:Foodieland San Diego May 3-5
DESCRIPTION:FoodieLand is a three-day outdoor multicultural food festival for foodies! Featuring over 170+ vendors in attendance\nDel Mar Fairgrounds
URL:https://famouspudn.com/event/foodieland-san-diego-may-3-5/
LOCATION:CA
ATTACH;FMTTYPE=image/jpeg:https://famouspudn.com/wp-content/uploads/2022/12/Foodieland.jpeg
END:VEVENT
BEGIN:VEVENT
DTSTART;TZID=UTC:20240330T080000
DTEND;TZID=UTC:20240330T123000
DTSTAMP:20260424T074031
CREATED:20240105T213538Z
LAST-MODIFIED:20240105T213538Z
UID:2450-1711785600-1711801800@famouspudn.com
SUMMARY:Temecula Farmer's Market Saturday 3/30
DESCRIPTION:Every Saturday morning 70-80 farmers and vendors gather in historic Old Town Temecula to offer a wide variety of farm fresh\, organic and conventional; fruits and vegetables. We feature many unusual plants and flowers. We have many complimentary items including\, bakeries\, olives\, olive oils\, cheeses\, kettle corn\, tamales\, hand made soaps and lotions. Natural pet foods are available. A small group of local artists have available some of their works.
URL:https://famouspudn.com/event/temecula-farmers-market-saturday-3-30/
LOCATION:CA
ATTACH;FMTTYPE=image/jpeg:https://famouspudn.com/wp-content/uploads/2022/09/4.jpg
END:VEVENT
BEGIN:VEVENT
DTSTART;VALUE=DATE:20240329
DTEND;VALUE=DATE:20240401
DTSTAMP:20260424T074031
CREATED:20240105T215256Z
LAST-MODIFIED:20240105T215256Z
UID:2463-1711670400-1711929599@famouspudn.com
SUMMARY:Foodieland Las Vegas Mar 29-31
DESCRIPTION:FoodieLand is a three-day outdoor multicultural food festival for foodies! Featuring over 170+ vendors in attendance\nLas Vegas Motor Speedway
URL:https://famouspudn.com/event/foodieland-las-vegas-mar-29-31/
LOCATION:CA
ATTACH;FMTTYPE=image/jpeg:https://famouspudn.com/wp-content/uploads/2022/12/Foodieland.jpeg
END:VEVENT
BEGIN:VEVENT
DTSTART;TZID=UTC:20240323T080000
DTEND;TZID=UTC:20240323T123000
DTSTAMP:20260424T074031
CREATED:20240105T213428Z
LAST-MODIFIED:20240105T213428Z
UID:2448-1711180800-1711197000@famouspudn.com
SUMMARY:Temecula Farmer's Market Saturday 3/23
DESCRIPTION:Every Saturday morning 70-80 farmers and vendors gather in historic Old Town Temecula to offer a wide variety of farm fresh\, organic and conventional; fruits and vegetables. We feature many unusual plants and flowers. We have many complimentary items including\, bakeries\, olives\, olive oils\, cheeses\, kettle corn\, tamales\, hand made soaps and lotions. Natural pet foods are available. A small group of local artists have available some of their works.
URL:https://famouspudn.com/event/temecula-farmers-market-saturday-3-23/
LOCATION:CA
ATTACH;FMTTYPE=image/jpeg:https://famouspudn.com/wp-content/uploads/2022/09/4.jpg
END:VEVENT
BEGIN:VEVENT
DTSTART;VALUE=DATE:20240322
DTEND;VALUE=DATE:20240325
DTSTAMP:20260424T074031
CREATED:20240105T215119Z
LAST-MODIFIED:20240105T215119Z
UID:2461-1711065600-1711324799@famouspudn.com
SUMMARY:Foodieland Phoenix\, AZ Mar 22-24
DESCRIPTION:FoodieLand is a three-day outdoor multicultural food festival for foodies! Featuring over 170+ vendors in attendance\nPhoenix Raceway
URL:https://famouspudn.com/event/foodieland-phoenix-az-mar-22-24/
LOCATION:CA
ATTACH;FMTTYPE=image/jpeg:https://famouspudn.com/wp-content/uploads/2022/12/Foodieland.jpeg
END:VEVENT
BEGIN:VEVENT
DTSTART;TZID=UTC:20240316T080000
DTEND;TZID=UTC:20240316T123000
DTSTAMP:20260424T074031
CREATED:20240105T213324Z
LAST-MODIFIED:20240105T213324Z
UID:2446-1710576000-1710592200@famouspudn.com
SUMMARY:Temecula Farmer's Market Saturday 3/16
DESCRIPTION:Every Saturday morning 70-80 farmers and vendors gather in historic Old Town Temecula to offer a wide variety of farm fresh\, organic and conventional; fruits and vegetables. We feature many unusual plants and flowers. We have many complimentary items including\, bakeries\, olives\, olive oils\, cheeses\, kettle corn\, tamales\, hand made soaps and lotions. Natural pet foods are available. A small group of local artists have available some of their works.
URL:https://famouspudn.com/event/temecula-farmers-market-saturday-3-16/
LOCATION:CA
ATTACH;FMTTYPE=image/jpeg:https://famouspudn.com/wp-content/uploads/2022/09/4.jpg
END:VEVENT
BEGIN:VEVENT
DTSTART;TZID=UTC:20240309T080000
DTEND;TZID=UTC:20240309T123000
DTSTAMP:20260424T074031
CREATED:20240105T211637Z
LAST-MODIFIED:20240105T211637Z
UID:2441-1709971200-1709987400@famouspudn.com
SUMMARY:Temecula Farmer's Market Saturday 3/9
DESCRIPTION:Every Saturday morning 70-80 farmers and vendors gather in historic Old Town Temecula to offer a wide variety of farm fresh\, organic and conventional; fruits and vegetables. We feature many unusual plants and flowers. We have many complimentary items including\, bakeries\, olives\, olive oils\, cheeses\, kettle corn\, tamales\, hand made soaps and lotions. Natural pet foods are available. A small group of local artists have available some of their works.
URL:https://famouspudn.com/event/temecula-farmers-market-saturday-3-9/
LOCATION:CA
ATTACH;FMTTYPE=image/jpeg:https://famouspudn.com/wp-content/uploads/2022/09/4.jpg
END:VEVENT
BEGIN:VEVENT
DTSTART;VALUE=DATE:20240308
DTEND;VALUE=DATE:20240311
DTSTAMP:20260424T074031
CREATED:20240105T214927Z
LAST-MODIFIED:20240105T214927Z
UID:2459-1709856000-1710115199@famouspudn.com
SUMMARY:Foodieland Phoenix\, AZ Mar 8-10
DESCRIPTION:FoodieLand is a three-day outdoor multicultural food festival for foodies! Featuring over 170+ vendors in attendance\nArizona State Fairgrounds
URL:https://famouspudn.com/event/foodieland-phoenix-az-mar-8-10/
LOCATION:CA
ATTACH;FMTTYPE=image/jpeg:https://famouspudn.com/wp-content/uploads/2022/12/Foodieland.jpeg
END:VEVENT
BEGIN:VEVENT
DTSTART;TZID=UTC:20240303T160000
DTEND;TZID=UTC:20240303T190000
DTSTAMP:20260424T074031
CREATED:20240222T171451Z
LAST-MODIFIED:20240222T171649Z
UID:2493-1709481600-1709492400@famouspudn.com
SUMMARY:PUDN | Sushi | Wine Elevated Taste & Paring
DESCRIPTION:Welcome an Elevated Experience where we offer each ticketed guest a unique lifestyle engagement of PUDN paired with Sushi & Wine \n  \nCome and join us on Sunday March 3\, 2024 from 4pm-7pm \n  \nHosted by: \nPUDN \nKrated Suhsi \nDanza De Sol \nLeoness
URL:https://famouspudn.com/event/pudn-sushi-wine-elevated-taste-paring/
LOCATION:CA
ATTACH;FMTTYPE=image/jpeg:https://famouspudn.com/wp-content/uploads/2024/02/IMG_3604.jpg
END:VEVENT
BEGIN:VEVENT
DTSTART;TZID=UTC:20240302T080000
DTEND;TZID=UTC:20240302T123000
DTSTAMP:20260424T074031
CREATED:20240105T211924Z
LAST-MODIFIED:20240105T211924Z
UID:2444-1709366400-1709382600@famouspudn.com
SUMMARY:Temecula Farmer's Market Saturday 3/2
DESCRIPTION:Every Saturday morning 70-80 farmers and vendors gather in historic Old Town Temecula to offer a wide variety of farm fresh\, organic and conventional; fruits and vegetables. We feature many unusual plants and flowers. We have many complimentary items including\, bakeries\, olives\, olive oils\, cheeses\, kettle corn\, tamales\, hand made soaps and lotions. Natural pet foods are available. A small group of local artists have available some of their works.
URL:https://famouspudn.com/event/temecula-farmers-market-saturday-3-2-2/
LOCATION:CA
ATTACH;FMTTYPE=image/jpeg:https://famouspudn.com/wp-content/uploads/2022/09/4.jpg
END:VEVENT
END:VCALENDAR