BEGIN:VCALENDAR
VERSION:2.0
PRODID:-//Famous Pudn | Kettle Cooked Gluten-Free Pudding Cafe in Murrieta, CA - ECPv6.15.13//NONSGML v1.0//EN
CALSCALE:GREGORIAN
METHOD:PUBLISH
X-ORIGINAL-URL:https://famouspudn.com
X-WR-CALDESC:Events for Famous Pudn | Kettle Cooked Gluten-Free Pudding Cafe in Murrieta, CA
REFRESH-INTERVAL;VALUE=DURATION:PT1H
X-Robots-Tag:noindex
X-PUBLISHED-TTL:PT1H
BEGIN:VTIMEZONE
TZID:UTC
BEGIN:STANDARD
TZOFFSETFROM:+0000
TZOFFSETTO:+0000
TZNAME:UTC
DTSTART:20210101T000000
END:STANDARD
END:VTIMEZONE
BEGIN:VEVENT
DTSTART;TZID=UTC:20220917T080000
DTEND;TZID=UTC:20220917T170000
DTSTAMP:20260425T162736
CREATED:20220914T152000Z
LAST-MODIFIED:20220915T203420Z
UID:210-1663401600-1663434000@famouspudn.com
SUMMARY:Temecula Farmer's Market
DESCRIPTION:Every Saturday morning 70-80 farmers and vendors gather in historic Old TownTemecula to offer a wide variety of farm fresh\, organic and conventional; fruits and vegetables. We feature many unusual plants and flowers. We have many complimentary items including\, bakeries\, olives\, olive oils\, cheeses\, kettle corn\, tamales\, hand made soaps and lotions. Natural pet foods are available. A small group of local artists have available some of their works.
URL:https://famouspudn.com/event/temecula-farmers-market-3/
ATTACH;FMTTYPE=image/jpeg:https://famouspudn.com/wp-content/uploads/2022/09/4.jpg
END:VEVENT
BEGIN:VEVENT
DTSTART;TZID=UTC:20220918T080000
DTEND;TZID=UTC:20220918T170000
DTSTAMP:20260425T162736
CREATED:20220914T152031Z
LAST-MODIFIED:20220915T204139Z
UID:212-1663488000-1663520400@famouspudn.com
SUMMARY:Europa Winery Food and Wine Festival
DESCRIPTION:We are excited to announce our FIRST-EVER wine and food festival\, The Great Taste of Europa! Join us in exploring the sights and wonders of our European wineries & resorts with over 30 different wines\, local craft brews\, spirits\, gourmet food\, and live entertainment.\nWine aficionados and foodie lovers… don’t miss out on this one-of-a-kind event!
URL:https://famouspudn.com/event/europa-winery-food-and-wine-festival/
ATTACH;FMTTYPE=image/jpeg:https://famouspudn.com/wp-content/uploads/2022/09/7.jpg
END:VEVENT
BEGIN:VEVENT
DTSTART;TZID=UTC:20220921T080000
DTEND;TZID=UTC:20220921T170000
DTSTAMP:20260425T162736
CREATED:20220914T152106Z
LAST-MODIFIED:20220915T231719Z
UID:214-1663747200-1663779600@famouspudn.com
SUMMARY:Wilson Creek Concert
DESCRIPTION:Join us under the stars in the heart of wine country for an evening of country music with RUSSELL DICKERSON! Doors Open at 6PM \n\nGeneral Admission $75 / Wine Club $67.50 (Enter your Member ID into the Coupon Code – discount applies to 4 tickets per membership\nOrchestra Assigned Seating $125 / Wine Club $112.50\nOrchestra First Two Rows $200/Wine Club $180\nUpper Room VIP Wine Club Only $250 (dinner and wine included with your ticket)\nSeats cannot be saved earlier in the day\nMust bring a print out or email of the ticket at check in\nRain or Shine\nEvent starts at 7:00pm | Doors open at 6:00pm\nOpener: TBA
URL:https://famouspudn.com/event/wilson-creek-concert/
ATTACH;FMTTYPE=image/jpeg:https://famouspudn.com/wp-content/uploads/2022/09/8.jpg
END:VEVENT
BEGIN:VEVENT
DTSTART;TZID=UTC:20220923T080000
DTEND;TZID=UTC:20220923T170000
DTSTAMP:20260425T162736
CREATED:20220914T152142Z
LAST-MODIFIED:20220915T205702Z
UID:216-1663920000-1663952400@famouspudn.com
SUMMARY:Rhythm on the Vine (South Coast Winery)
DESCRIPTION:TEMECULA\, Calif.–Award winning South Coast Winery Resort & Spa’s Rhythm on the Vine® Concert Series presents the upcoming schedule of rock–and other music genre–concerts to be performed at the resort from the last week of July until the first week of October.The six concerts are proudly hosted by the resort in South Coast Winery’s outdoor courtyard. Headliners include much-loved\, award-winning singers and instrumentalists from Los Angeles and beyond. \n  \nNo Concert on september 23rd.
URL:https://famouspudn.com/event/rhythm-on-the-vine-south-coast-winery-2/
ATTACH;FMTTYPE=image/jpeg:https://famouspudn.com/wp-content/uploads/2022/09/1.jpg
END:VEVENT
BEGIN:VEVENT
DTSTART;TZID=UTC:20220924T080000
DTEND;TZID=UTC:20220924T170000
DTSTAMP:20260425T162736
CREATED:20220914T152218Z
LAST-MODIFIED:20220915T203451Z
UID:218-1664006400-1664038800@famouspudn.com
SUMMARY:Temecula Farmer's Market
DESCRIPTION:Every Saturday morning 70-80 farmers and vendors gather in historic Old TownTemecula to offer a wide variety of farm fresh\, organic and conventional; fruits and vegetables. We feature many unusual plants and flowers. We have many complimentary items including\, bakeries\, olives\, olive oils\, cheeses\, kettle corn\, tamales\, hand made soaps and lotions. Natural pet foods are available. A small group of local artists have available some of their works.
URL:https://famouspudn.com/event/temecula-farmers-market-4/
ATTACH;FMTTYPE=image/jpeg:https://famouspudn.com/wp-content/uploads/2022/09/4.jpg
END:VEVENT
BEGIN:VEVENT
DTSTART;TZID=UTC:20220924T080000
DTEND;TZID=UTC:20220924T170000
DTSTAMP:20260425T162736
CREATED:20220914T152242Z
LAST-MODIFIED:20220915T204945Z
UID:220-1664006400-1664038800@famouspudn.com
SUMMARY:Healthy Living Expo
DESCRIPTION:If you want to:\n\nImprove focus and memory\nEliminate pain\nAchieve and maintain a healthy weight\nSleep restfully\nMaximize natural immunity\nFind inner calm and healthy mindset\nBalance hormones\nHave amazing skin\nImprove relationship\nBalance emotions\nAND MUCH MORE…\n\nJoin us in front of the Regal Edwards Cinemas at the Promenade Mall. \nThroughout the day experts and practitioners will offer educational ralks regarding nutrition\, empty-nesting\, the importance of our breath\, overcoming anxiety or poor sleep\, and how to create the life you desire… \n  \nThere will be demos and samples.
URL:https://famouspudn.com/event/healthy-living-expo/
ATTACH;FMTTYPE=image/jpeg:https://famouspudn.com/wp-content/uploads/2022/09/9.jpg
END:VEVENT
BEGIN:VEVENT
DTSTART;TZID=UTC:20221001T080000
DTEND;TZID=UTC:20221001T170000
DTSTAMP:20260425T162736
CREATED:20220914T152300Z
LAST-MODIFIED:20220915T203518Z
UID:222-1664611200-1664643600@famouspudn.com
SUMMARY:Temecula Farmer's Market
DESCRIPTION:Every Saturday morning 70-80 farmers and vendors gather in historic Old TownTemecula to offer a wide variety of farm fresh\, organic and conventional; fruits and vegetables. We feature many unusual plants and flowers. We have many complimentary items including\, bakeries\, olives\, olive oils\, cheeses\, kettle corn\, tamales\, hand made soaps and lotions. Natural pet foods are available. A small group of local artists have available some of their works.
URL:https://famouspudn.com/event/temecula-farmers-market-5/
ATTACH;FMTTYPE=image/jpeg:https://famouspudn.com/wp-content/uploads/2022/09/4.jpg
END:VEVENT
BEGIN:VEVENT
DTSTART;TZID=UTC:20221001T080000
DTEND;TZID=UTC:20221001T170000
DTSTAMP:20260425T162736
CREATED:20220914T152335Z
LAST-MODIFIED:20220915T205319Z
UID:224-1664611200-1664643600@famouspudn.com
SUMMARY:Remember Me 2022 (Las Vegas)
DESCRIPTION:Remember Music Festival is the 5 year memorial concert to commemorate The Route91 Harvest Festival and is organized by The Country Strong Project \, Stoney’s Rockin’ Country and Clark County Nevada\, with proceeds benefiting the 1October PermanentMemorial. Our vision since the inception of this annual event has been to find one word that encompasses all we were\, who we are\, and what we strive to be; Remember who you were\, Remember to live\, love\, sing and dance\, Remember we are here\, dream big\, and Remember 58!
URL:https://famouspudn.com/event/remember-me-2022-las-vegas/
ATTACH;FMTTYPE=image/jpeg:https://famouspudn.com/wp-content/uploads/2022/09/10.jpg
END:VEVENT
BEGIN:VEVENT
DTSTART;TZID=UTC:20221006T080000
DTEND;TZID=UTC:20221006T170000
DTSTAMP:20260425T162736
CREATED:20220914T152359Z
LAST-MODIFIED:20220915T205826Z
UID:226-1665043200-1665075600@famouspudn.com
SUMMARY:Rhythm on the Vine (South Coast Winery)
DESCRIPTION:TEMECULA\, Calif.–Award winning South Coast Winery Resort & Spa’s Rhythm on the Vine® Concert Series presents the upcoming schedule of rock–and other music genre–concerts to be performed at the resort from the last week of July until the first week of October.The six concerts are proudly hosted by the resort in South Coast Winery’s outdoor courtyard. Headliners include much-loved\, award-winning singers and instrumentalists from Los Angeles and beyond. \n  \nThursday\, October 6–The Wallflowers. An American rock band that has won twoGrammy awards\, The Wallflowers is a solo project of Los Angeles native\, singer-songwriter and multi-instrumentalist Jakob Dylan\, and its highest-selling album is “Bringing Down the House.” \nDoors open at 5 p.m.; concert begins at 6:30 p.m.
URL:https://famouspudn.com/event/rhythm-on-the-vine-south-coast-winery-3/
ATTACH;FMTTYPE=image/jpeg:https://famouspudn.com/wp-content/uploads/2022/09/1.jpg
END:VEVENT
BEGIN:VEVENT
DTSTART;TZID=UTC:20221007T080000
DTEND;TZID=UTC:20221007T170000
DTSTAMP:20260425T162736
CREATED:20220914T152441Z
LAST-MODIFIED:20220915T202752Z
UID:228-1665129600-1665162000@famouspudn.com
SUMMARY:Foodie Friday (Menifee)
DESCRIPTION:Designed with the foodie in mind\, this open-air experience includes unique dining options along with entertainment and curated vendors for a fun Friday night out with friends and family!This event is hosted by Made Local at Central Park(30268 Civic PlazaDr.\, Menifee\, CA 92586) from 5 p.m to 9 p.m. (PLEASE NOTE:September 2 WILL BE 6 PM TO 10 PM DUE TO HEAT) on the first Friday of every month\, beginning May 2022. This event is free to the public!
URL:https://famouspudn.com/event/foodie-friday-menifee-2/
ATTACH;FMTTYPE=image/jpeg:https://famouspudn.com/wp-content/uploads/2022/09/2.jpg
END:VEVENT
BEGIN:VEVENT
DTSTART;TZID=UTC:20221007T080000
DTEND;TZID=UTC:20221007T170000
DTSTAMP:20260425T162736
CREATED:20220914T152514Z
LAST-MODIFIED:20220915T210001Z
UID:230-1665129600-1665162000@famouspudn.com
SUMMARY:Rhythm on the Vine (South Coast Winery)
DESCRIPTION:TEMECULA\, Calif.–Award winning South Coast Winery Resort & Spa’s Rhythm on the Vine® Concert Series presents the upcoming schedule of rock–and other music genre–concerts to be performed at the resort from the last week of July until the first week of October.The six concerts are proudly hosted by the resort in South Coast Winery’s outdoor courtyard. Headliners include much-loved\, award-winning singers and instrumentalists from Los Angeles and beyond. \nFriday\, October 7–Yächtley Crëw. Six-man Yächtley Crëw based in Los Angeles isknown as “the Titans of soft rock” or yacht rock\, which is soft rock music from the 70sand early 80s. They recently released “Sex on the Beach\,” and this appearance inTemecula is part of a 25-city California tour. \nDoors open at 6 p.m.; concert begins at 7:30 p.m.
URL:https://famouspudn.com/event/rhythm-on-the-vine-south-coast-winery-4/
ATTACH;FMTTYPE=image/jpeg:https://famouspudn.com/wp-content/uploads/2022/09/1.jpg
END:VEVENT
BEGIN:VEVENT
DTSTART;TZID=UTC:20221014T170000
DTEND;TZID=UTC:20221014T210000
DTSTAMP:20260425T162736
CREATED:20221027T172206Z
LAST-MODIFIED:20221027T172206Z
UID:711-1665766800-1665781200@famouspudn.com
SUMMARY:Lakeside Night Market
DESCRIPTION:Shop after dark and enjoy an artisan pop-up market featuring…Over 45 small business vendors\, food &treats\, Beer garden\, Dj\, and Photo Ops. Plus experience all the bars\, restaurants\, and shops that Dos Lagos has to offer
URL:https://famouspudn.com/event/lakeside-night-market-2/
ATTACH;FMTTYPE=image/jpeg:https://famouspudn.com/wp-content/uploads/2022/09/5.jpg
END:VEVENT
BEGIN:VEVENT
DTSTART;VALUE=DATE:20221015
DTEND;VALUE=DATE:20221016
DTSTAMP:20260425T162736
CREATED:20221027T172751Z
LAST-MODIFIED:20221027T172751Z
UID:715-1665792000-1665878399@famouspudn.com
SUMMARY:Riverside Sheriffs Department Picnic
DESCRIPTION:Thousands of Riverside County Sheriff’s Department deputies\, family members\, and friends came out to the 25th annual Sheriff’s Picnic on Saturday\, Oct. 12\, in a celebration of law enforcement camaraderie\, exploration\, music\, food\, and fun
URL:https://famouspudn.com/event/riverside-sheriffs-department-picnic/
END:VEVENT
BEGIN:VEVENT
DTSTART;VALUE=DATE:20221015
DTEND;VALUE=DATE:20221016
DTSTAMP:20260425T162736
CREATED:20221027T173127Z
LAST-MODIFIED:20221027T173127Z
UID:717-1665792000-1665878399@famouspudn.com
SUMMARY:Stonehouse Brew Festival
DESCRIPTION:The Rooted in Nature Craft Brew Festival showcases Southern California’s distinct and rich artisanal craft beer brewing culture featuring top Craft Breweries offering an amazing variety of styles to showcase their brewing expertise. Rooted in Nature is the perfect name for this Festival as the event proceeds not only to benefit the Santa RosaPlateau Nature Education Foundation but the essence of quality beer ingredients are directly rooted in nature with fresh hops\, grains\, pure water\, and yeast. Inspired by nature\, the ever-expanding and an incredible array of styles and flavor profiles that continue to flourish are absolutely attributable to the introduction of robust ingredients primarily comprised of fruits\, herbs\, and spices
URL:https://famouspudn.com/event/stonehouse-brew-festival/
ATTACH;FMTTYPE=image/png:https://famouspudn.com/wp-content/uploads/2022/10/Screen-Shot-2022-10-27-at-10.31.07-AM.png
END:VEVENT
BEGIN:VEVENT
DTSTART;TZID=UTC:20221015T080000
DTEND;TZID=UTC:20221015T123000
DTSTAMP:20260425T162736
CREATED:20221027T172538Z
LAST-MODIFIED:20221027T172538Z
UID:713-1665820800-1665837000@famouspudn.com
SUMMARY:Temecula Farmers Market
DESCRIPTION:Every Saturday morning 70-80 farmers and vendors gather in historic Old TownTemecula to offer a wide variety of farm fresh\, organic and conventional; fruits and vegetables. We feature many unusual plants and flowers. We have many complimentary items including\, bakeries\, olives\, olive oils\, cheeses\, kettle corn\, tamales\, handmade soaps\, and lotions. Natural pet foods are available. A small group of local artists have available some of their works.
URL:https://famouspudn.com/event/temecula-farmers-market-6/
ATTACH;FMTTYPE=image/jpeg:https://famouspudn.com/wp-content/uploads/2022/09/4.jpg
END:VEVENT
BEGIN:VEVENT
DTSTART;TZID=UTC:20221021T170000
DTEND;TZID=UTC:20221021T210000
DTSTAMP:20260425T162736
CREATED:20221027T173521Z
LAST-MODIFIED:20221027T173521Z
UID:720-1666371600-1666386000@famouspudn.com
SUMMARY:Menifee Trading Post
DESCRIPTION:A special night celebrating culture\, art\, and community. This family-friendly luxury night market will showcase the very best small businesses in Menifee\, Ca. Join us on the third Friday Night of EVERY MONTHfor a specular night celebrating culture\, art\, and community. \nMercato Del Sole Shopping Center (Behind Living Spaces) \n30141 Antelope Rd. Menifee Ca 92584 \nFeaturing: drinks\, handmade products\, curated boutiques\, photo Ops\, Live music\, food/ desserts\, and unique experiences like Ax throwing
URL:https://famouspudn.com/event/menifee-trading-post-2/
ATTACH;FMTTYPE=image/png:https://famouspudn.com/wp-content/uploads/2022/10/Screen-Shot-2022-10-27-at-10.34.56-AM.png
END:VEVENT
BEGIN:VEVENT
DTSTART;TZID=UTC:20221021T180000
DTEND;TZID=UTC:20221021T200000
DTSTAMP:20260425T162736
CREATED:20221027T174719Z
LAST-MODIFIED:20221027T174719Z
UID:723-1666375200-1666382400@famouspudn.com
SUMMARY:Tovashal PTA Fall Carnival
DESCRIPTION:Temecula trunk or treat fall carnival hosted by the Tovashal PTA. Food for purchase\, trunk or treat and free candy\, dance party\, Haunted hallway\, carnival games\, and pumpkin carving contest.
URL:https://famouspudn.com/event/tovashal-pta-fall-carnival/
END:VEVENT
BEGIN:VEVENT
DTSTART;TZID=UTC:20221022T180000
DTEND;TZID=UTC:20221022T210000
DTSTAMP:20260425T162736
CREATED:20221027T181057Z
LAST-MODIFIED:20221027T181057Z
UID:725-1666461600-1666472400@famouspudn.com
SUMMARY:Progressive Health and Performance Fundraiser
DESCRIPTION:Progressive Health & Performance (PHP) partners with MilVet and Heroes’ Movement(HM) to sponsor rehabilitation\, health\, and wellness services for local veterans. These 2non-profits currently sponsor over 50 local veterans and have sponsored over 150veterans since 2019. This program has helped our local veterans with things like PTSD\, opioid addiction\, chronic pain\, and traumatic brain injuries just to name a few. These programs have provided over $250\,000 worth of services to veterans (at no cost) in the Temecula valley over the last 4 years. To further the mission of HM and MilVet\, PHP is hosting a casino night fundraiser for MilVet and HM with the goal of raising$12\,000. Casino night festivities include food\, drinks\, casino games (craps\, poker\, blackjack)\, raffle prizes\, and a silent auction.
URL:https://famouspudn.com/event/progressive-health-and-performance-fundraiser/
END:VEVENT
BEGIN:VEVENT
DTSTART;TZID=UTC:20221027T080000
DTEND;TZID=UTC:20221027T170000
DTSTAMP:20260425T162736
CREATED:20221027T182522Z
LAST-MODIFIED:20221027T182522Z
UID:729-1666857600-1666890000@famouspudn.com
SUMMARY:Greer Ranch Fall Events
DESCRIPTION:In addition to the Trunk-or-Treat from 4:30-7 pm\, we are hosting a Dark in the Park Movie featuringGhostbusters!!! \nWe will be giving out SLIMYGLOOP Slimy Sand for the first 300 kids set up at the movie! We will also have some glow necklaces! fun times! Can’t wait to see you! \nDate-Saturday\, October 29 \nMovie Time-7:30 PM (1 hour 45 minutes run time) \nPlace-Town Square Park Amphitheater \nMovie-Ghostbusters (1984) \nVendors-Kettle corn\, dessert-type snacks\, and Rita’s Italian ice \nRemembers chairs and blankets
URL:https://famouspudn.com/event/greer-ranch-fall-events/
ATTACH;FMTTYPE=image/png:https://famouspudn.com/wp-content/uploads/2022/10/Screen-Shot-2022-10-27-at-11.24.38-AM.png
END:VEVENT
BEGIN:VEVENT
DTSTART;TZID=UTC:20221029T080000
DTEND;TZID=UTC:20221029T123000
DTSTAMP:20260425T162736
CREATED:20221027T181317Z
LAST-MODIFIED:20221027T181317Z
UID:727-1667030400-1667046600@famouspudn.com
SUMMARY:Temecula Farmers Market
DESCRIPTION:Every Saturday morning 70-80 farmers and vendors gather in historic Old TownTemecula to offer a wide variety of farm fresh\, organic and conventional; fruits and vegetables. We feature many unusual plants and flowers. We have many complimentary items including\, bakeries\, olives\, olive oils\, cheeses\, kettle corn\, tamales\, handmade soaps\, and lotions. Natural pet foods are available. A small group of local artists have available some of their works
URL:https://famouspudn.com/event/temecula-farmers-market-7/
ATTACH;FMTTYPE=image/jpeg:https://famouspudn.com/wp-content/uploads/2022/09/4.jpg
END:VEVENT
BEGIN:VEVENT
DTSTART;TZID=UTC:20221029T170000
DTEND;TZID=UTC:20221029T200000
DTSTAMP:20260425T162736
CREATED:20221027T182709Z
LAST-MODIFIED:20221027T182709Z
UID:732-1667062800-1667073600@famouspudn.com
SUMMARY:Harvest Festival- Promise Church
DESCRIPTION:It’s that time of year for TRUNK OR TREATING\, CARNIVAL GAMES\, COSTUMES\, PONY RIDES\, PETTING ZOO\, HAUNTED HOUSE\, LOCAL VENDORS \,FOOD TRUCKS and much much more all at PROMISE CHRISTIAN CHURCH AND SCHOOL. HARVEST FESTIVAL Join us for all the fun Saturday\, October 29th 5-8 p.m.
URL:https://famouspudn.com/event/harvest-festival-promise-church/
END:VEVENT
BEGIN:VEVENT
DTSTART;TZID=UTC:20221031T160000
DTEND;TZID=UTC:20221031T190000
DTSTAMP:20260425T162736
CREATED:20221027T183031Z
LAST-MODIFIED:20221111T004125Z
UID:734-1667232000-1667242800@famouspudn.com
SUMMARY:Dos Lagos Halloween Event
DESCRIPTION:HALLOWEEN AT THE SHOPS AT DOS LAGOS! \n-October 31st\, 2022 | 4pm-7pm \n-ShopDosLagos.com/HALLOWEEN` \nEvent to Feature Safe Trick-or-Treating for Families \nCostume Contest: Kids ages 11 & under (Prizes Top 3) \nKids ages 12 & up (Prizes Top 10) \nFamily (Prizes Top 3) \n-Zombie Stilt Walker-Halloween Games-Free Prizes (while supplies last)-Face Painters-BalloonTwisters-Music-Crafts (while supplies last)-Magician & more
URL:https://famouspudn.com/event/dos-lagos-halloween-event/
ATTACH;FMTTYPE=image/png:https://famouspudn.com/wp-content/uploads/2022/10/Screen-Shot-2022-10-27-at-11.30.04-AM.png
END:VEVENT
BEGIN:VEVENT
DTSTART;TZID=UTC:20221204T110000
DTEND;TZID=UTC:20221204T180000
DTSTAMP:20260425T162736
CREATED:20221206T162056Z
LAST-MODIFIED:20221206T162056Z
UID:1075-1670151600-1670176800@famouspudn.com
SUMMARY:Dana Point Holiday Crawl
DESCRIPTION:Dana Point Holiday Crawl\, 11am-6pm 34137 E Pacific Coast Hwy\, Dana Point\, CA 92629 \nJoin us for a curated market on Del Parado showcasing our local creators\, makers\, and small businesses of Orange County. Enjoy local shopping\, holiday entertainment\, gourmet street food\, and specialty craft cocktail bars.
URL:https://famouspudn.com/event/dana-point-holiday-crawl/
END:VEVENT
BEGIN:VEVENT
DTSTART;TZID=UTC:20221209T173000
DTEND;TZID=UTC:20221209T193000
DTSTAMP:20260425T162736
CREATED:20221206T162316Z
LAST-MODIFIED:20221206T162316Z
UID:1077-1670607000-1670614200@famouspudn.com
SUMMARY:1st Annual Temecula Children's Business Fair
DESCRIPTION:Observe the opportunity for children to launch their very own startup business!\nKids develop a brand\, create a product or service\, build a marketing strategy\, and then open for customers at our one-day marketplace.\nWe will host 10-20 booths at the 1st annual children’s Business Fair at Harveston Lake House on December 9th\, 2022 from 5:30pm-7:30pm.\nThis event is sponsored by Acton Academy\, the Acton School of Business\, and the generous support of our donors and volunteers.  We all believe that principled entrepreneurs are heroes and role models for the next generation.\nWhether an entrepreneur is famous like Elon Musk or Oprah Winfrey or they are one of the thousands of unsung business owners across this country\, these are the people who make sacrifices to innovate\, create jobs and serve their communities.
URL:https://famouspudn.com/event/1st-annual-temecula-childrens-business-fair/
ATTACH;FMTTYPE=image/png:https://famouspudn.com/wp-content/uploads/2022/12/Screenshot-2022-12-06-at-8.23.00-AM.png
END:VEVENT
BEGIN:VEVENT
DTSTART;TZID=UTC:20221210T080000
DTEND;TZID=UTC:20221210T123000
DTSTAMP:20260425T162736
CREATED:20221206T162520Z
LAST-MODIFIED:20221206T162520Z
UID:1080-1670659200-1670675400@famouspudn.com
SUMMARY:Temecula Farmers Market
DESCRIPTION:Every Saturday morning 70-80 farmers and vendors gather in historic Old TownTemecula to offer a wide variety of farm fresh\, organic and conventional; fruits and vegetables. We feature many unusual plants and flowers. We have many complimentary items including\, bakeries\, olives\, olive oils\, cheeses\, kettle corn\, tamales\, handmade soaps\, and lotions. Natural pet foods are available. A small group of local artists have available some of their works.
URL:https://famouspudn.com/event/temecula-farmers-market-8/
ATTACH;FMTTYPE=image/jpeg:https://famouspudn.com/wp-content/uploads/2022/09/4.jpg
END:VEVENT
BEGIN:VEVENT
DTSTART;TZID=UTC:20221210T180000
DTEND;TZID=UTC:20221210T200000
DTSTAMP:20260425T162736
CREATED:20221206T162707Z
LAST-MODIFIED:20221206T162707Z
UID:1082-1670695200-1670702400@famouspudn.com
SUMMARY:Tovashal PTA Event
DESCRIPTION:The Tovashol PTA invites you to a free whoville holiday party! \nactivities include: \n-ornament creation \n-face painting \n-free treats \n-free photos with Santa and the Grinch \n-food trucks with food for purchase \n-gingerbread house contest (bring your gingerbread house to event) \n-event will be held outside so dress accordingly \n 
URL:https://famouspudn.com/event/tovashal-pta-event/
END:VEVENT
BEGIN:VEVENT
DTSTART;TZID=UTC:20221217T160000
DTEND;TZID=UTC:20221217T200000
DTSTAMP:20260425T162736
CREATED:20221206T163026Z
LAST-MODIFIED:20221206T163026Z
UID:1084-1671292800-1671307200@famouspudn.com
SUMMARY:Greer Ranch Community Association
DESCRIPTION:Winter Wonderland Holiday Event hosted by the Greer Ranch Community Association.
URL:https://famouspudn.com/event/greer-ranch-community-association/
END:VEVENT
BEGIN:VEVENT
DTSTART;TZID=UTC:20221217T170000
DTEND;TZID=UTC:20221217T200000
DTSTAMP:20260425T162736
CREATED:20221206T163401Z
LAST-MODIFIED:20221206T163401Z
UID:1086-1671296400-1671307200@famouspudn.com
SUMMARY:Concert at Monserate Winery
DESCRIPTION:Live music will be hosted at Monserate Winery! Come join us on December 17th and 18th.
URL:https://famouspudn.com/event/concert-at-monserate-winery/
END:VEVENT
BEGIN:VEVENT
DTSTART;TZID=UTC:20230110T080000
DTEND;TZID=UTC:20230110T170000
DTSTAMP:20260425T162736
CREATED:20230110T154916Z
LAST-MODIFIED:20230110T154916Z
UID:1432-1673337600-1673370000@famouspudn.com
SUMMARY:Rancho Springs Hospital Event
DESCRIPTION:Join Us! Tuesday January 10th at Rancho Springs Medical center from 11:30am-2pm and 8pm-10pm
URL:https://famouspudn.com/event/rancho-springs-hospital-event/
END:VEVENT
BEGIN:VEVENT
DTSTART;TZID=UTC:20230112T113000
DTEND;TZID=UTC:20230112T140000
DTSTAMP:20260425T162736
CREATED:20230110T155303Z
LAST-MODIFIED:20230110T155303Z
UID:1434-1673523000-1673532000@famouspudn.com
SUMMARY:Inland Valley Hospital Event
DESCRIPTION:Join us! Wednesday\, January 12th at Inland Valley hospital. 11:30am-2pm & 8-10pm
URL:https://famouspudn.com/event/inland-valley-hospital-event/
END:VEVENT
END:VCALENDAR