BEGIN:VCALENDAR
VERSION:2.0
PRODID:-//Famous Pudn | Kettle Cooked Gluten-Free Pudding Cafe in Murrieta, CA - ECPv6.15.13//NONSGML v1.0//EN
CALSCALE:GREGORIAN
METHOD:PUBLISH
X-WR-CALNAME:Famous Pudn | Kettle Cooked Gluten-Free Pudding Cafe in Murrieta, CA
X-ORIGINAL-URL:https://famouspudn.com
X-WR-CALDESC:Events for Famous Pudn | Kettle Cooked Gluten-Free Pudding Cafe in Murrieta, CA
REFRESH-INTERVAL;VALUE=DURATION:PT1H
X-Robots-Tag:noindex
X-PUBLISHED-TTL:PT1H
BEGIN:VTIMEZONE
TZID:UTC
BEGIN:STANDARD
TZOFFSETFROM:+0000
TZOFFSETTO:+0000
TZNAME:UTC
DTSTART:20220101T000000
END:STANDARD
END:VTIMEZONE
BEGIN:VEVENT
DTSTART;TZID=UTC:20230401T080000
DTEND;TZID=UTC:20230401T123000
DTSTAMP:20260426T034448
CREATED:20230308T024824Z
LAST-MODIFIED:20230308T024824Z
UID:1748-1680336000-1680352200@famouspudn.com
SUMMARY:Temecula Farmers Market
DESCRIPTION:Every Saturday morning 70-80 farmers and vendors gather in historic Old Town Temecula to offer a wide variety of farm fresh\, organic and conventional; fruits and vegetables. We feature many unusual plants and flowers. We have many complimentary items including\, bakeries\, olives\, olive oils\, cheeses\, kettle corn\, tamales\, hand made soaps and lotions. Natural pet foods are available. A small group of local artists have available some of their works.
URL:https://famouspudn.com/event/temecula-farmers-market-14/
ATTACH;FMTTYPE=image/jpeg:https://famouspudn.com/wp-content/uploads/2022/09/4.jpg
END:VEVENT
BEGIN:VEVENT
DTSTART;TZID=UTC:20230401T130000
DTEND;TZID=UTC:20230402T220000
DTSTAMP:20260426T034448
CREATED:20230323T225715Z
LAST-MODIFIED:20230323T225715Z
UID:1935-1680354000-1680472800@famouspudn.com
SUMMARY:626 Night Market - San Diego
DESCRIPTION:1350 3rd Ave\, San Diego\, Ca 92101
URL:https://famouspudn.com/event/626-night-market-san-diego/
END:VEVENT
END:VCALENDAR