BEGIN:VCALENDAR
VERSION:2.0
PRODID:-//Famous Pudn | Kettle Cooked Gluten-Free Pudding Cafe in Murrieta, CA - ECPv6.15.13//NONSGML v1.0//EN
CALSCALE:GREGORIAN
METHOD:PUBLISH
X-WR-CALNAME:Famous Pudn | Kettle Cooked Gluten-Free Pudding Cafe in Murrieta, CA
X-ORIGINAL-URL:https://famouspudn.com
X-WR-CALDESC:Events for Famous Pudn | Kettle Cooked Gluten-Free Pudding Cafe in Murrieta, CA
REFRESH-INTERVAL;VALUE=DURATION:PT1H
X-Robots-Tag:noindex
X-PUBLISHED-TTL:PT1H
BEGIN:VTIMEZONE
TZID:UTC
BEGIN:STANDARD
TZOFFSETFROM:+0000
TZOFFSETTO:+0000
TZNAME:UTC
DTSTART:20220101T000000
END:STANDARD
END:VTIMEZONE
BEGIN:VEVENT
DTSTART;TZID=UTC:20230126T150000
DTEND;TZID=UTC:20230126T190000
DTSTAMP:20260426T002050
CREATED:20230110T185241Z
LAST-MODIFIED:20230110T185241Z
UID:1445-1674745200-1674759600@famouspudn.com
SUMMARY:Lake Elsinore Storm Stadium Mega Mixer
DESCRIPTION:The All Chamber MEGA Mixer is a Networking Extravaganza powered by Local Chambers in our region working together to connect our business communities! Admission is $1 OR your Business card!
URL:https://famouspudn.com/event/lake-elsinore-storm-stadium-mega-mixer/
END:VEVENT
END:VCALENDAR