BEGIN:VCALENDAR
VERSION:2.0
PRODID:-//Famous Pudn | Kettle Cooked Gluten-Free Pudding Cafe in Murrieta, CA - ECPv6.15.13//NONSGML v1.0//EN
CALSCALE:GREGORIAN
METHOD:PUBLISH
X-WR-CALNAME:Famous Pudn | Kettle Cooked Gluten-Free Pudding Cafe in Murrieta, CA
X-ORIGINAL-URL:https://famouspudn.com
X-WR-CALDESC:Events for Famous Pudn | Kettle Cooked Gluten-Free Pudding Cafe in Murrieta, CA
REFRESH-INTERVAL;VALUE=DURATION:PT1H
X-Robots-Tag:noindex
X-PUBLISHED-TTL:PT1H
BEGIN:VTIMEZONE
TZID:UTC
BEGIN:STANDARD
TZOFFSETFROM:+0000
TZOFFSETTO:+0000
TZNAME:UTC
DTSTART:20220101T000000
END:STANDARD
END:VTIMEZONE
BEGIN:VEVENT
DTSTART;TZID=UTC:20230119T160000
DTEND;TZID=UTC:20230119T200000
DTSTAMP:20260426T002051
CREATED:20230110T184517Z
LAST-MODIFIED:20230110T184517Z
UID:1441-1674144000-1674158400@famouspudn.com
SUMMARY:Small Business Fun Fest
DESCRIPTION:Join us on January 19th at the small business Fun Fest ! from 4pm-8pm
URL:https://famouspudn.com/event/small-business-fun-fest/
END:VEVENT
BEGIN:VEVENT
DTSTART;TZID=UTC:20230119T170000
DTEND;TZID=UTC:20230119T190000
DTSTAMP:20260426T002051
CREATED:20230110T190513Z
LAST-MODIFIED:20230110T190513Z
UID:1453-1674147600-1674154800@famouspudn.com
SUMMARY:Murrieta Market Nights
DESCRIPTION:Looking for things to do in Murrieta?  Join us for Market Nights event hosted in downtown Murrieta every 1st & 3rd Thursday of the month.  Come enjoy live music\, food trucks\, street vendors and more! \n 
URL:https://famouspudn.com/event/murrieta-market-nights/
END:VEVENT
END:VCALENDAR