BEGIN:VCALENDAR
VERSION:2.0
PRODID:-//Famous Pudn | Kettle Cooked Gluten-Free Pudding Cafe in Murrieta, CA - ECPv6.15.13//NONSGML v1.0//EN
CALSCALE:GREGORIAN
METHOD:PUBLISH
X-WR-CALNAME:Famous Pudn | Kettle Cooked Gluten-Free Pudding Cafe in Murrieta, CA
X-ORIGINAL-URL:https://famouspudn.com
X-WR-CALDESC:Events for Famous Pudn | Kettle Cooked Gluten-Free Pudding Cafe in Murrieta, CA
REFRESH-INTERVAL;VALUE=DURATION:PT1H
X-Robots-Tag:noindex
X-PUBLISHED-TTL:PT1H
BEGIN:VTIMEZONE
TZID:UTC
BEGIN:STANDARD
TZOFFSETFROM:+0000
TZOFFSETTO:+0000
TZNAME:UTC
DTSTART:20220101T000000
END:STANDARD
END:VTIMEZONE
BEGIN:VEVENT
DTSTART;TZID=UTC:20230116T140000
DTEND;TZID=UTC:20230116T190000
DTSTAMP:20260426T002051
CREATED:20230110T160040Z
LAST-MODIFIED:20230110T160040Z
UID:1436-1673877600-1673895600@famouspudn.com
SUMMARY:PUDN delivery to Amazon!
DESCRIPTION:January 16th PUDN will be making a delivery to Amazon where we will be setting up and serving from 2pm-7pm!
URL:https://famouspudn.com/event/pudn-delivery-to-amazon/
END:VEVENT
END:VCALENDAR