BEGIN:VCALENDAR
VERSION:2.0
PRODID:-//Famous Pudn | Kettle Cooked Gluten-Free Pudding Cafe in Murrieta, CA - ECPv6.15.13//NONSGML v1.0//EN
CALSCALE:GREGORIAN
METHOD:PUBLISH
X-WR-CALNAME:Famous Pudn | Kettle Cooked Gluten-Free Pudding Cafe in Murrieta, CA
X-ORIGINAL-URL:https://famouspudn.com
X-WR-CALDESC:Events for Famous Pudn | Kettle Cooked Gluten-Free Pudding Cafe in Murrieta, CA
REFRESH-INTERVAL;VALUE=DURATION:PT1H
X-Robots-Tag:noindex
X-PUBLISHED-TTL:PT1H
BEGIN:VTIMEZONE
TZID:UTC
BEGIN:STANDARD
TZOFFSETFROM:+0000
TZOFFSETTO:+0000
TZNAME:UTC
DTSTART:20210101T000000
END:STANDARD
END:VTIMEZONE
BEGIN:VEVENT
DTSTART;TZID=UTC:20221209T173000
DTEND;TZID=UTC:20221209T193000
DTSTAMP:20260425T225200
CREATED:20221206T162316Z
LAST-MODIFIED:20221206T162316Z
UID:1077-1670607000-1670614200@famouspudn.com
SUMMARY:1st Annual Temecula Children's Business Fair
DESCRIPTION:Observe the opportunity for children to launch their very own startup business!\nKids develop a brand\, create a product or service\, build a marketing strategy\, and then open for customers at our one-day marketplace.\nWe will host 10-20 booths at the 1st annual children’s Business Fair at Harveston Lake House on December 9th\, 2022 from 5:30pm-7:30pm.\nThis event is sponsored by Acton Academy\, the Acton School of Business\, and the generous support of our donors and volunteers.  We all believe that principled entrepreneurs are heroes and role models for the next generation.\nWhether an entrepreneur is famous like Elon Musk or Oprah Winfrey or they are one of the thousands of unsung business owners across this country\, these are the people who make sacrifices to innovate\, create jobs and serve their communities.
URL:https://famouspudn.com/event/1st-annual-temecula-childrens-business-fair/
ATTACH;FMTTYPE=image/png:https://famouspudn.com/wp-content/uploads/2022/12/Screenshot-2022-12-06-at-8.23.00-AM.png
END:VEVENT
END:VCALENDAR