BEGIN:VCALENDAR
VERSION:2.0
PRODID:-//Famous Pudn | Kettle Cooked Gluten-Free Pudding Cafe in Murrieta, CA - ECPv6.15.13//NONSGML v1.0//EN
CALSCALE:GREGORIAN
METHOD:PUBLISH
X-ORIGINAL-URL:https://famouspudn.com
X-WR-CALDESC:Events for Famous Pudn | Kettle Cooked Gluten-Free Pudding Cafe in Murrieta, CA
REFRESH-INTERVAL;VALUE=DURATION:PT1H
X-Robots-Tag:noindex
X-PUBLISHED-TTL:PT1H
BEGIN:VTIMEZONE
TZID:UTC
BEGIN:STANDARD
TZOFFSETFROM:+0000
TZOFFSETTO:+0000
TZNAME:UTC
DTSTART:20210101T000000
END:STANDARD
END:VTIMEZONE
BEGIN:VEVENT
DTSTART;TZID=UTC:20221029T080000
DTEND;TZID=UTC:20221029T123000
DTSTAMP:20260425T193425
CREATED:20221027T181317Z
LAST-MODIFIED:20221027T181317Z
UID:727-1667030400-1667046600@famouspudn.com
SUMMARY:Temecula Farmers Market
DESCRIPTION:Every Saturday morning 70-80 farmers and vendors gather in historic Old TownTemecula to offer a wide variety of farm fresh\, organic and conventional; fruits and vegetables. We feature many unusual plants and flowers. We have many complimentary items including\, bakeries\, olives\, olive oils\, cheeses\, kettle corn\, tamales\, handmade soaps\, and lotions. Natural pet foods are available. A small group of local artists have available some of their works
URL:https://famouspudn.com/event/temecula-farmers-market-7/
ATTACH;FMTTYPE=image/jpeg:https://famouspudn.com/wp-content/uploads/2022/09/4.jpg
END:VEVENT
BEGIN:VEVENT
DTSTART;TZID=UTC:20221029T170000
DTEND;TZID=UTC:20221029T200000
DTSTAMP:20260425T193425
CREATED:20221027T182709Z
LAST-MODIFIED:20221027T182709Z
UID:732-1667062800-1667073600@famouspudn.com
SUMMARY:Harvest Festival- Promise Church
DESCRIPTION:It’s that time of year for TRUNK OR TREATING\, CARNIVAL GAMES\, COSTUMES\, PONY RIDES\, PETTING ZOO\, HAUNTED HOUSE\, LOCAL VENDORS \,FOOD TRUCKS and much much more all at PROMISE CHRISTIAN CHURCH AND SCHOOL. HARVEST FESTIVAL Join us for all the fun Saturday\, October 29th 5-8 p.m.
URL:https://famouspudn.com/event/harvest-festival-promise-church/
END:VEVENT
END:VCALENDAR