BEGIN:VCALENDAR
VERSION:2.0
PRODID:-//Famous Pudn | Kettle Cooked Gluten-Free Pudding Cafe in Murrieta, CA - ECPv6.15.13//NONSGML v1.0//EN
CALSCALE:GREGORIAN
METHOD:PUBLISH
X-WR-CALNAME:Famous Pudn | Kettle Cooked Gluten-Free Pudding Cafe in Murrieta, CA
X-ORIGINAL-URL:https://famouspudn.com
X-WR-CALDESC:Events for Famous Pudn | Kettle Cooked Gluten-Free Pudding Cafe in Murrieta, CA
REFRESH-INTERVAL;VALUE=DURATION:PT1H
X-Robots-Tag:noindex
X-PUBLISHED-TTL:PT1H
BEGIN:VTIMEZONE
TZID:UTC
BEGIN:STANDARD
TZOFFSETFROM:+0000
TZOFFSETTO:+0000
TZNAME:UTC
DTSTART:20210101T000000
END:STANDARD
END:VTIMEZONE
BEGIN:VEVENT
DTSTART;TZID=UTC:20221027T080000
DTEND;TZID=UTC:20221027T170000
DTSTAMP:20260425T193346
CREATED:20221027T182522Z
LAST-MODIFIED:20221027T182522Z
UID:729-1666857600-1666890000@famouspudn.com
SUMMARY:Greer Ranch Fall Events
DESCRIPTION:In addition to the Trunk-or-Treat from 4:30-7 pm\, we are hosting a Dark in the Park Movie featuringGhostbusters!!! \nWe will be giving out SLIMYGLOOP Slimy Sand for the first 300 kids set up at the movie! We will also have some glow necklaces! fun times! Can’t wait to see you! \nDate-Saturday\, October 29 \nMovie Time-7:30 PM (1 hour 45 minutes run time) \nPlace-Town Square Park Amphitheater \nMovie-Ghostbusters (1984) \nVendors-Kettle corn\, dessert-type snacks\, and Rita’s Italian ice \nRemembers chairs and blankets
URL:https://famouspudn.com/event/greer-ranch-fall-events/
ATTACH;FMTTYPE=image/png:https://famouspudn.com/wp-content/uploads/2022/10/Screen-Shot-2022-10-27-at-11.24.38-AM.png
END:VEVENT
END:VCALENDAR