BEGIN:VCALENDAR
VERSION:2.0
PRODID:-//Famous Pudn | Kettle Cooked Gluten-Free Pudding Cafe in Murrieta, CA - ECPv6.15.13//NONSGML v1.0//EN
CALSCALE:GREGORIAN
METHOD:PUBLISH
X-ORIGINAL-URL:https://famouspudn.com
X-WR-CALDESC:Events for Famous Pudn | Kettle Cooked Gluten-Free Pudding Cafe in Murrieta, CA
REFRESH-INTERVAL;VALUE=DURATION:PT1H
X-Robots-Tag:noindex
X-PUBLISHED-TTL:PT1H
BEGIN:VTIMEZONE
TZID:UTC
BEGIN:STANDARD
TZOFFSETFROM:+0000
TZOFFSETTO:+0000
TZNAME:UTC
DTSTART:20210101T000000
END:STANDARD
END:VTIMEZONE
BEGIN:VEVENT
DTSTART;TZID=UTC:20220901T080000
DTEND;TZID=UTC:20220901T170000
DTSTAMP:20260425T175439
CREATED:20220913T232828Z
LAST-MODIFIED:20220915T201846Z
UID:193-1662019200-1662051600@famouspudn.com
SUMMARY:Rhythm on the Vine (South Coast Winery)
DESCRIPTION:  \nTEMECULA\,Calif.–Award winning South Coast Winery Resort & Spa’s Rhythm on the Vine® Concert Series presents the upcoming schedule of rock–and other music genre–concerts to be performed at the resort from the last week of July until the first week of October.The six concerts are proudly hosted by the resortin South Coast Winery’s outdoor courtyard. Headliners include much-loved\, award-winning singers and instrumentalists from Los Angeles and beyond. \nThursday\, September 1–Beth Hart. Talented Los Angeles native Beth Hart rose to fame with the release of “LA Song” from her second album in 1999. Her singing genres include blues\, rock\, jazz\, fusion and soul\, and she has touredacross 11 countries including performing at the Royal Albert Hall in London. \n  \nDoors open at 5 p.m.; concert begins at 6:30 p.m.
URL:https://famouspudn.com/event/rhythm-on-the-vine/
ATTACH;FMTTYPE=image/jpeg:https://famouspudn.com/wp-content/uploads/2022/09/1.jpg
END:VEVENT
END:VCALENDAR